BEGIN:VCALENDAR
VERSION:2.0
PRODID:VSD-Portal-www.volley.de
METHOD:PUBLISH
BEGIN:VEVENT
UID:711807-2da69939ed67427dc6bf3daba21059e9
X-WR-RELCALID:711807-2da69939ed67427dc6bf3daba21059e9
ORGANIZER:Volleyball
SEQUENCE:261141507
LOCATION:4110 / SH Heinrich-Mann-Allee  , Johann-Jacob-Baeyer-Straße 5
  , 14473 Potsdam
GEO:52.38020000000000000000;13.08401000000000000000
SUMMARY:3. L N Mä.: SC Potsdam - VCO Berlin II
CLASS:PUBLIC
DTSTART:20250919T173000Z
DTSTAMP:20250816T084000Z
END:VEVENT
BEGIN:VEVENT
UID:711777-2da69939ed67427dc6bf3daba21059e9
X-WR-RELCALID:711777-2da69939ed67427dc6bf3daba21059e9
ORGANIZER:Volleyball
SEQUENCE:261141507
LOCATION:Sportforum Berlin - Große Halle, Weißenseer Weg 53, 13053 Ber
 lin
GEO:52.53846000000000000000;13.47390000000000000000
SUMMARY:3. L N Mä.: VCO Berlin II - Chemie Volley Mitteldeutschland
CLASS:PUBLIC
DTSTART:20250920T130000Z
DTSTAMP:20250816T084000Z
END:VEVENT
BEGIN:VEVENT
UID:711783-2da69939ed67427dc6bf3daba21059e9
X-WR-RELCALID:711783-2da69939ed67427dc6bf3daba21059e9
ORGANIZER:Volleyball
SEQUENCE:261141507
LOCATION:Sporthalle Friedensschule Dessau, Elballee 87, 06846 Dessau-R
 oßlau
GEO:51.85099840000000000000;12.21530290000000000000
SUMMARY:3. L N Mä.: Dessau Volleys - VCO Berlin II
CLASS:PUBLIC
DTSTART:20250927T170000Z
DTSTAMP:20250816T084000Z
END:VEVENT
BEGIN:VEVENT
UID:711789-2da69939ed67427dc6bf3daba21059e9
X-WR-RELCALID:711789-2da69939ed67427dc6bf3daba21059e9
ORGANIZER:Volleyball
SEQUENCE:261141507
LOCATION:Sportforum Berlin - Große Halle, Weißenseer Weg 53, 13053 Ber
 lin
GEO:52.53846000000000000000;13.47390000000000000000
SUMMARY:3. L N Mä.: VCO Berlin II - VSG Lübeck
CLASS:PUBLIC
DTSTART:20251004T140000Z
DTSTAMP:20250816T084000Z
END:VEVENT
BEGIN:VEVENT
UID:711801-2da69939ed67427dc6bf3daba21059e9
X-WR-RELCALID:711801-2da69939ed67427dc6bf3daba21059e9
ORGANIZER:Volleyball
SEQUENCE:261141507
LOCATION:Sportforum Berlin - Große Halle, Weißenseer Weg 53, 13053 Ber
 lin
GEO:52.53846000000000000000;13.47390000000000000000
SUMMARY:3. L N Mä.: VCO Berlin II - Eimsbütteler TV
CLASS:PUBLIC
DTSTART:20251005T130000Z
DTSTAMP:20250816T084000Z
END:VEVENT
BEGIN:VEVENT
UID:711795-2da69939ed67427dc6bf3daba21059e9
X-WR-RELCALID:711795-2da69939ed67427dc6bf3daba21059e9
ORGANIZER:Volleyball
SEQUENCE:261141507
LOCATION:Hein-Dahlinger-Halle, Geschwister-Scholl-Str. 9, 24143 Kiel
GEO:54.30671200000000000000;10.15992870000000000000
SUMMARY:3. L N Mä.: Kieler TV II - VCO Berlin II
CLASS:PUBLIC
DTSTART:20251018T130000Z
DTSTAMP:20250816T084000Z
END:VEVENT
BEGIN:VEVENT
UID:711813-2da69939ed67427dc6bf3daba21059e9
X-WR-RELCALID:711813-2da69939ed67427dc6bf3daba21059e9
ORGANIZER:Volleyball
SEQUENCE:261141507
LOCATION:Sportforum Berlin - Große Halle, Weißenseer Weg 53, 13053 Ber
 lin
GEO:52.53846000000000000000;13.47390000000000000000
SUMMARY:3. L N Mä.: VCO Berlin II - SV Warnemünde II
CLASS:PUBLIC
DTSTART:20251102T120000Z
DTSTAMP:20250816T084000Z
END:VEVENT
BEGIN:VEVENT
UID:711819-2da69939ed67427dc6bf3daba21059e9
X-WR-RELCALID:711819-2da69939ed67427dc6bf3daba21059e9
ORGANIZER:Volleyball
SEQUENCE:261141507
LOCATION:4800 / Lehrer-Paul-Bester-Halle, GS I  , Dorfaue 17-19  , 155
 66 Schöneiche
GEO:52.48101240000000000000;13.70219460000000000000
SUMMARY:3. L N Mä.: TSGL Schöneiche - VCO Berlin II
CLASS:PUBLIC
DTSTART:20251115T180000Z
DTSTAMP:20250816T084000Z
END:VEVENT
BEGIN:VEVENT
UID:711891-2da69939ed67427dc6bf3daba21059e9
X-WR-RELCALID:711891-2da69939ed67427dc6bf3daba21059e9
ORGANIZER:Volleyball
SEQUENCE:261141507
LOCATION:147 | Anton-Saefkow-Halle, Anton-Saefkow-Platz 5, 10369 Licht
 enberg
GEO:52.52989250000000000000;13.47427250000000000000
SUMMARY:3. L N Mä.: SV Preußen Berlin - VCO Berlin II
CLASS:PUBLIC
DTSTART:20251122T150000Z
DTSTAMP:20250816T084000Z
END:VEVENT
BEGIN:VEVENT
UID:711879-2da69939ed67427dc6bf3daba21059e9
X-WR-RELCALID:711879-2da69939ed67427dc6bf3daba21059e9
ORGANIZER:Volleyball
SEQUENCE:261141507
LOCATION:Friedrich-Ludwig-Jahn Sportpark Warnemünde, Parkstr. 45, 1811
 9 Rostock
GEO:54.11701550000000000000;12.20506170000000000000
SUMMARY:3. L N Mä.: SV Warnemünde II - VCO Berlin II
CLASS:PUBLIC
DTSTART:20251129T150000Z
DTSTAMP:20250816T084000Z
END:VEVENT
BEGIN:VEVENT
UID:711831-2da69939ed67427dc6bf3daba21059e9
X-WR-RELCALID:711831-2da69939ed67427dc6bf3daba21059e9
ORGANIZER:Volleyball
SEQUENCE:261141507
LOCATION:Jahnhalle, Richard-Köhnstr. 75, 25421 Pinneberg
GEO:53.64636000000000000000;9.79387000000000000000
SUMMARY:3. L N Mä.: VG Halstenbek-Pinneberg - VCO Berlin II
CLASS:PUBLIC
DTSTART:20251206T180000Z
DTSTAMP:20250816T084000Z
END:VEVENT
BEGIN:VEVENT
UID:711837-2da69939ed67427dc6bf3daba21059e9
X-WR-RELCALID:711837-2da69939ed67427dc6bf3daba21059e9
ORGANIZER:Volleyball
SEQUENCE:261141507
LOCATION:Sportforum Berlin - Große Halle, Weißenseer Weg 53, 13053 Ber
 lin
GEO:52.53846000000000000000;13.47390000000000000000
SUMMARY:3. L N Mä.: VCO Berlin II - USC Magdeburg
CLASS:PUBLIC
DTSTART:20251213T150000Z
DTSTAMP:20250816T084000Z
END:VEVENT
BEGIN:VEVENT
UID:711849-2da69939ed67427dc6bf3daba21059e9
X-WR-RELCALID:711849-2da69939ed67427dc6bf3daba21059e9
ORGANIZER:Volleyball
SEQUENCE:261141507
LOCATION:Sportforum Berlin - Halle 3, Weißenseer Weg 53, 13053 Berlin
GEO:52.53846210000000000000;13.47278240000000000000
SUMMARY:3. L N Mä.: VCO Berlin II - Dessau Volleys
CLASS:PUBLIC
DTSTART:20260118T120000Z
DTSTAMP:20260109T151500Z
END:VEVENT
BEGIN:VEVENT
UID:711855-2da69939ed67427dc6bf3daba21059e9
X-WR-RELCALID:711855-2da69939ed67427dc6bf3daba21059e9
ORGANIZER:Volleyball
SEQUENCE:261141507
LOCATION:Thomas-Mann-Schule, Thomas-Mann-Str. 14, 23564 Lübeck
GEO:53.86054000000000000000;10.71270000000000000000
SUMMARY:3. L N Mä.: VSG Lübeck - VCO Berlin II
CLASS:PUBLIC
DTSTART:20260124T180000Z
DTSTAMP:20250816T084000Z
END:VEVENT
BEGIN:VEVENT
UID:711861-2da69939ed67427dc6bf3daba21059e9
X-WR-RELCALID:711861-2da69939ed67427dc6bf3daba21059e9
ORGANIZER:Volleyball
SEQUENCE:261141507
LOCATION:Sportforum Berlin - Große Halle, Weißenseer Weg 53, 13053 Ber
 lin
GEO:52.53846000000000000000;13.47390000000000000000
SUMMARY:3. L N Mä.: VCO Berlin II - Kieler TV II
CLASS:PUBLIC
DTSTART:20260201T120000Z
DTSTAMP:20250816T084000Z
END:VEVENT
BEGIN:VEVENT
UID:711867-2da69939ed67427dc6bf3daba21059e9
X-WR-RELCALID:711867-2da69939ed67427dc6bf3daba21059e9
ORGANIZER:Volleyball
SEQUENCE:261141507
LOCATION:Sporthalle Alter Teichweg, Alter Teichweg 200, 22049 Hamburg
GEO:53.58749150000000000000;10.06956180000000000000
SUMMARY:3. L N Mä.: Eimsbütteler TV - VCO Berlin II
CLASS:PUBLIC
DTSTART:20260207T153000Z
DTSTAMP:20260116T151500Z
END:VEVENT
BEGIN:VEVENT
UID:711897-2da69939ed67427dc6bf3daba21059e9
X-WR-RELCALID:711897-2da69939ed67427dc6bf3daba21059e9
ORGANIZER:Volleyball
SEQUENCE:261141507
LOCATION:Sportforum Berlin - Große Halle, Weißenseer Weg 53, 13053 Ber
 lin
GEO:52.53846000000000000000;13.47390000000000000000
SUMMARY:3. L N Mä.: VCO Berlin II - VG Halstenbek-Pinneberg
CLASS:PUBLIC
DTSTART:20260208T120000Z
DTSTAMP:20250816T084000Z
END:VEVENT
BEGIN:VEVENT
UID:711873-2da69939ed67427dc6bf3daba21059e9
X-WR-RELCALID:711873-2da69939ed67427dc6bf3daba21059e9
ORGANIZER:Volleyball
SEQUENCE:261141507
LOCATION:Sportforum Berlin - Große Halle, Weißenseer Weg 53, 13053 Ber
 lin
GEO:52.53846000000000000000;13.47390000000000000000
SUMMARY:3. L N Mä.: VCO Berlin II - SC Potsdam
CLASS:PUBLIC
DTSTART:20260215T140000Z
DTSTAMP:20250816T084000Z
END:VEVENT
BEGIN:VEVENT
UID:711843-2da69939ed67427dc6bf3daba21059e9
X-WR-RELCALID:711843-2da69939ed67427dc6bf3daba21059e9
ORGANIZER:Volleyball
SEQUENCE:261141507
LOCATION:Jahrhunderthalle Spergau, Straße zur Linde 40, 06237 Leuna OT
  Spergau
GEO:51.29321290000000000000;12.03020580000000000000
SUMMARY:3. L N Mä.: Chemie Volley Mitteldeutschland - VCO Berlin II
CLASS:PUBLIC
DTSTART:20260227T170000Z
DTSTAMP:20250816T084000Z
END:VEVENT
BEGIN:VEVENT
UID:711825-2da69939ed67427dc6bf3daba21059e9
X-WR-RELCALID:711825-2da69939ed67427dc6bf3daba21059e9
ORGANIZER:Volleyball
SEQUENCE:261141507
LOCATION:Sportforum Berlin - Große Halle, Weißenseer Weg 53, 13053 Ber
 lin
GEO:52.53846000000000000000;13.47390000000000000000
SUMMARY:3. L N Mä.: VCO Berlin II - SV Preußen Berlin
CLASS:PUBLIC
DTSTART:20260301T140000Z
DTSTAMP:20250816T084000Z
END:VEVENT
BEGIN:VEVENT
UID:711885-2da69939ed67427dc6bf3daba21059e9
X-WR-RELCALID:711885-2da69939ed67427dc6bf3daba21059e9
ORGANIZER:Volleyball
SEQUENCE:261141507
LOCATION:Sportforum Berlin - Große Halle, Weißenseer Weg 53, 13053 Ber
 lin
GEO:52.53846000000000000000;13.47390000000000000000
SUMMARY:3. L N Mä.: VCO Berlin II - TSGL Schöneiche
CLASS:PUBLIC
DTSTART:20260307T140000Z
DTSTAMP:20250816T084000Z
END:VEVENT
BEGIN:VEVENT
UID:711903-2da69939ed67427dc6bf3daba21059e9
X-WR-RELCALID:711903-2da69939ed67427dc6bf3daba21059e9
ORGANIZER:Volleyball
SEQUENCE:261141507
LOCATION:Universitätssporthalle 3 (SH3), Johann-Gottlob-Nathusius-Ring
 , 39106 Magdeburg
GEO:52.13985620000000000000;11.64907630000000000000
SUMMARY:3. L N Mä.: USC Magdeburg - VCO Berlin II
CLASS:PUBLIC
DTSTART:20260411T160000Z
DTSTAMP:20250816T084000Z
END:VEVENT
END:VCALENDAR