BEGIN:VCALENDAR
VERSION:2.0
PRODID:VSD-Portal-www.volley.de
METHOD:PUBLISH
BEGIN:VEVENT
UID:701269-2da69939ed67427dc6bf3daba21059e9
X-WR-RELCALID:701269-2da69939ed67427dc6bf3daba21059e9
ORGANIZER:Volleyball
SEQUENCE:261100231
LOCATION:Sporthalle Heideweg, , 49191 Belm
GEO:52.30432310000000000000;8.12845320000000000000
SUMMARY:BKl Osn. N Fr.: SVC Belm-Powe II - Osnabrücker SC III
CLASS:PUBLIC
DTSTART:20241207T140000Z
DTSTAMP:20250112T111100Z
END:VEVENT
BEGIN:VEVENT
UID:701270-2da69939ed67427dc6bf3daba21059e9
X-WR-RELCALID:701270-2da69939ed67427dc6bf3daba21059e9
ORGANIZER:Volleyball
SEQUENCE:261100231
LOCATION:Sporthalle Heideweg, , 49191 Belm
GEO:52.30432310000000000000;8.12845320000000000000
SUMMARY:BKl Osn. N Fr.: SVC Belm-Powe II - VG Hollage/Lechtingen III
CLASS:PUBLIC
DTSTART:20241207T140000Z
DTSTAMP:20250112T111100Z
END:VEVENT
BEGIN:VEVENT
UID:701259-2da69939ed67427dc6bf3daba21059e9
X-WR-RELCALID:701259-2da69939ed67427dc6bf3daba21059e9
ORGANIZER:Volleyball
SEQUENCE:261100231
LOCATION:Sporthalle Heideweg, , 49191 Belm
GEO:52.30432310000000000000;8.12845320000000000000
SUMMARY:BKl Osn. N Fr.: SVC Belm-Powe II - TuS Bersenbrück II
CLASS:PUBLIC
DTSTART:20250308T090000Z
DTSTAMP:20250112T111100Z
END:VEVENT
BEGIN:VEVENT
UID:701260-2da69939ed67427dc6bf3daba21059e9
X-WR-RELCALID:701260-2da69939ed67427dc6bf3daba21059e9
ORGANIZER:Volleyball
SEQUENCE:261100231
LOCATION:Sporthalle Heideweg, , 49191 Belm
GEO:52.30432310000000000000;8.12845320000000000000
SUMMARY:BKl Osn. N Fr.: SVC Belm-Powe II - Eintracht Neuenkirchen
CLASS:PUBLIC
DTSTART:20250308T090000Z
DTSTAMP:20250112T111100Z
END:VEVENT
BEGIN:VEVENT
UID:701295-2da69939ed67427dc6bf3daba21059e9
X-WR-RELCALID:701295-2da69939ed67427dc6bf3daba21059e9
ORGANIZER:Volleyball
SEQUENCE:261100231
LOCATION:Sporthalle Heideweg, , 49191 Belm
GEO:52.30432310000000000000;8.12845320000000000000
SUMMARY:BKl Osn. N Fr.: SVC Belm-Powe II - SG Merzen-Voltlage
CLASS:PUBLIC
DTSTART:20250315T140000Z
DTSTAMP:20250112T111100Z
END:VEVENT
BEGIN:VEVENT
UID:701296-2da69939ed67427dc6bf3daba21059e9
X-WR-RELCALID:701296-2da69939ed67427dc6bf3daba21059e9
ORGANIZER:Volleyball
SEQUENCE:261100231
LOCATION:Sporthalle Heideweg, , 49191 Belm
GEO:52.30432310000000000000;8.12845320000000000000
SUMMARY:BKl Osn. N Fr.: SVC Belm-Powe II - Tecklenburger Land Volleys 
 III
CLASS:PUBLIC
DTSTART:20250315T140000Z
DTSTAMP:20250112T111100Z
END:VEVENT
END:VCALENDAR