BEGIN:VCALENDAR
VERSION:2.0
PRODID:VSD-Portal-www.volley.de
METHOD:PUBLISH
BEGIN:VEVENT
UID:696539-2da69939ed67427dc6bf3daba21059e9
X-WR-RELCALID:696539-2da69939ed67427dc6bf3daba21059e9
ORGANIZER:Volleyball
SEQUENCE:261141316
LOCATION:Sporthalle am Park, Parkstraße, 49835 Lohne
GEO:52.50003820000000000000;7.22932880000000000000
SUMMARY:LL 1 Mä.: SV Union Lohne - Osnabrücker SC I
CLASS:PUBLIC
DTSTART:20240831T130000Z
DTSTAMP:20250111T151700Z
END:VEVENT
BEGIN:VEVENT
UID:696542-2da69939ed67427dc6bf3daba21059e9
X-WR-RELCALID:696542-2da69939ed67427dc6bf3daba21059e9
ORGANIZER:Volleyball
SEQUENCE:261141316
LOCATION:Sporthalle am Park, Parkstraße, 49835 Lohne
GEO:52.50003820000000000000;7.22932880000000000000
SUMMARY:LL 1 Mä.: SV Union Lohne - Tecklenburger Land Volleys III
CLASS:PUBLIC
DTSTART:20240831T130000Z
DTSTAMP:20250111T151700Z
END:VEVENT
BEGIN:VEVENT
UID:696551-2da69939ed67427dc6bf3daba21059e9
X-WR-RELCALID:696551-2da69939ed67427dc6bf3daba21059e9
ORGANIZER:Volleyball
SEQUENCE:261141316
LOCATION:Gymnasium Twistringen, Vechtaer Str. 44, 27239 Twistringen
GEO:52.79952000000000000000;8.62478000000000000000
SUMMARY:LL 1 Mä.: SC Twistringen - VfL Lintorf IV
CLASS:PUBLIC
DTSTART:20240914T130000Z
DTSTAMP:20250111T151700Z
END:VEVENT
BEGIN:VEVENT
UID:696554-2da69939ed67427dc6bf3daba21059e9
X-WR-RELCALID:696554-2da69939ed67427dc6bf3daba21059e9
ORGANIZER:Volleyball
SEQUENCE:261141316
LOCATION:Gymnasium Twistringen, Vechtaer Str. 44, 27239 Twistringen
GEO:52.79952000000000000000;8.62478000000000000000
SUMMARY:LL 1 Mä.: SC Twistringen - SV Union Lohne
CLASS:PUBLIC
DTSTART:20240914T130000Z
DTSTAMP:20250111T151700Z
END:VEVENT
BEGIN:VEVENT
UID:696557-2da69939ed67427dc6bf3daba21059e9
X-WR-RELCALID:696557-2da69939ed67427dc6bf3daba21059e9
ORGANIZER:Volleyball
SEQUENCE:261141316
LOCATION:Turnhalle Lintorf, Am Hallenbad, 49152 Bad Essen
GEO:52.30556100000000000000;8.43781530000000000000
SUMMARY:LL 1 Mä.: VfL Lintorf III - SC Twistringen
CLASS:PUBLIC
DTSTART:20240921T120000Z
DTSTAMP:20240805T212600Z
END:VEVENT
BEGIN:VEVENT
UID:696563-2da69939ed67427dc6bf3daba21059e9
X-WR-RELCALID:696563-2da69939ed67427dc6bf3daba21059e9
ORGANIZER:Volleyball
SEQUENCE:261141316
LOCATION:Turnhalle Lintorf, Am Hallenbad, 49152 Bad Essen
GEO:52.30556100000000000000;8.43781530000000000000
SUMMARY:LL 1 Mä.: VfL Lintorf IV - Tecklenburger Land Volleys III
CLASS:PUBLIC
DTSTART:20240921T120000Z
DTSTAMP:20240805T212600Z
END:VEVENT
BEGIN:VEVENT
UID:696569-2da69939ed67427dc6bf3daba21059e9
X-WR-RELCALID:696569-2da69939ed67427dc6bf3daba21059e9
ORGANIZER:Volleyball
SEQUENCE:261141316
LOCATION:Osnabrücker SC Halle B, Hiärm-Grupe-Str. 8, 49080 Osnabrück
GEO:52.26765960000000000000;8.02396190000000000000
SUMMARY:LL 1 Mä.: Osnabrücker SC I - VfL Lintorf III
CLASS:PUBLIC
DTSTART:20240929T080000Z
DTSTAMP:20250111T151700Z
END:VEVENT
BEGIN:VEVENT
UID:696572-2da69939ed67427dc6bf3daba21059e9
X-WR-RELCALID:696572-2da69939ed67427dc6bf3daba21059e9
ORGANIZER:Volleyball
SEQUENCE:261141316
LOCATION:Osnabrücker SC Halle B, Hiärm-Grupe-Str. 8, 49080 Osnabrück
GEO:52.26765960000000000000;8.02396190000000000000
SUMMARY:LL 1 Mä.: Osnabrücker SC I - Tecklenburger Land Volleys III
CLASS:PUBLIC
DTSTART:20240929T080000Z
DTSTAMP:20250111T151700Z
END:VEVENT
BEGIN:VEVENT
UID:696566-2da69939ed67427dc6bf3daba21059e9
X-WR-RELCALID:696566-2da69939ed67427dc6bf3daba21059e9
ORGANIZER:Volleyball
SEQUENCE:261141316
LOCATION:Turnhalle Lintorf, Am Hallenbad, 49152 Bad Essen
GEO:52.30556100000000000000;8.43781530000000000000
SUMMARY:LL 1 Mä.: VfL Lintorf IV - Osnabrücker SC I
CLASS:PUBLIC
DTSTART:20241029T193000Z
DTSTAMP:20240923T104600Z
END:VEVENT
BEGIN:VEVENT
UID:696579-2da69939ed67427dc6bf3daba21059e9
X-WR-RELCALID:696579-2da69939ed67427dc6bf3daba21059e9
ORGANIZER:Volleyball
SEQUENCE:261141316
LOCATION:Kardinal-von-Galen-Schule, Burgweg, 49477 Ibbenbüren - Laggen
 beck
GEO:52.25673390000000000000;7.78761120000000000000
SUMMARY:LL 1 Mä.: Tecklenburger Land Volleys III - SC Twistringen
CLASS:PUBLIC
DTSTART:20241102T130000Z
DTSTAMP:20240805T212600Z
END:VEVENT
BEGIN:VEVENT
UID:696582-2da69939ed67427dc6bf3daba21059e9
X-WR-RELCALID:696582-2da69939ed67427dc6bf3daba21059e9
ORGANIZER:Volleyball
SEQUENCE:261141316
LOCATION:Sporthalle am Park, Parkstraße, 49835 Lohne
GEO:52.50003820000000000000;7.22932880000000000000
SUMMARY:LL 1 Mä.: SV Union Lohne - VfL Lintorf III
CLASS:PUBLIC
DTSTART:20241102T140000Z
DTSTAMP:20250111T151700Z
END:VEVENT
BEGIN:VEVENT
UID:696585-2da69939ed67427dc6bf3daba21059e9
X-WR-RELCALID:696585-2da69939ed67427dc6bf3daba21059e9
ORGANIZER:Volleyball
SEQUENCE:261141316
LOCATION:Sporthalle am Park, Parkstraße, 49835 Lohne
GEO:52.50003820000000000000;7.22932880000000000000
SUMMARY:LL 1 Mä.: SV Union Lohne - VfL Lintorf IV
CLASS:PUBLIC
DTSTART:20241102T140000Z
DTSTAMP:20250111T151700Z
END:VEVENT
BEGIN:VEVENT
UID:696588-2da69939ed67427dc6bf3daba21059e9
X-WR-RELCALID:696588-2da69939ed67427dc6bf3daba21059e9
ORGANIZER:Volleyball
SEQUENCE:261141316
LOCATION:Turnhalle Lintorf, Am Hallenbad, 49152 Bad Essen
GEO:52.30556100000000000000;8.43781530000000000000
SUMMARY:LL 1 Mä.: VfL Lintorf III - Tecklenburger Land Volleys III
CLASS:PUBLIC
DTSTART:20241116T130000Z
DTSTAMP:20240805T212600Z
END:VEVENT
BEGIN:VEVENT
UID:696590-2da69939ed67427dc6bf3daba21059e9
X-WR-RELCALID:696590-2da69939ed67427dc6bf3daba21059e9
ORGANIZER:Volleyball
SEQUENCE:261141316
LOCATION:Turnhalle Lintorf, Am Hallenbad, 49152 Bad Essen
GEO:52.30556100000000000000;8.43781530000000000000
SUMMARY:LL 1 Mä.: VfL Lintorf III - VfL Lintorf IV
CLASS:PUBLIC
DTSTART:20241116T130000Z
DTSTAMP:20240805T212600Z
END:VEVENT
BEGIN:VEVENT
UID:696604-2da69939ed67427dc6bf3daba21059e9
X-WR-RELCALID:696604-2da69939ed67427dc6bf3daba21059e9
ORGANIZER:Volleyball
SEQUENCE:261141316
LOCATION:Gymnasium Twistringen, Vechtaer Str. 44, 27239 Twistringen
GEO:52.79952000000000000000;8.62478000000000000000
SUMMARY:LL 1 Mä.: SC Twistringen - Osnabrücker SC I
CLASS:PUBLIC
DTSTART:20241130T140000Z
DTSTAMP:20250111T151700Z
END:VEVENT
BEGIN:VEVENT
UID:696606-2da69939ed67427dc6bf3daba21059e9
X-WR-RELCALID:696606-2da69939ed67427dc6bf3daba21059e9
ORGANIZER:Volleyball
SEQUENCE:261141316
LOCATION:Gymnasium Twistringen, Vechtaer Str. 44, 27239 Twistringen
GEO:52.79952000000000000000;8.62478000000000000000
SUMMARY:LL 1 Mä.: SC Twistringen - VfL Lintorf III
CLASS:PUBLIC
DTSTART:20241130T140000Z
DTSTAMP:20250111T151700Z
END:VEVENT
BEGIN:VEVENT
UID:696608-2da69939ed67427dc6bf3daba21059e9
X-WR-RELCALID:696608-2da69939ed67427dc6bf3daba21059e9
ORGANIZER:Volleyball
SEQUENCE:261141316
LOCATION:Osnabrücker SC Halle B, Hiärm-Grupe-Str. 8, 49080 Osnabrück
GEO:52.26765960000000000000;8.02396190000000000000
SUMMARY:LL 1 Mä.: Osnabrücker SC I - SC Twistringen
CLASS:PUBLIC
DTSTART:20241214T140000Z
DTSTAMP:20250111T151700Z
END:VEVENT
BEGIN:VEVENT
UID:696610-2da69939ed67427dc6bf3daba21059e9
X-WR-RELCALID:696610-2da69939ed67427dc6bf3daba21059e9
ORGANIZER:Volleyball
SEQUENCE:261141316
LOCATION:Osnabrücker SC Halle B, Hiärm-Grupe-Str. 8, 49080 Osnabrück
GEO:52.26765960000000000000;8.02396190000000000000
SUMMARY:LL 1 Mä.: Osnabrücker SC I - VfL Lintorf IV
CLASS:PUBLIC
DTSTART:20241214T140000Z
DTSTAMP:20250111T151700Z
END:VEVENT
BEGIN:VEVENT
UID:696616-2da69939ed67427dc6bf3daba21059e9
X-WR-RELCALID:696616-2da69939ed67427dc6bf3daba21059e9
ORGANIZER:Volleyball
SEQUENCE:261141316
LOCATION:Osnabrücker SC Halle B, Hiärm-Grupe-Str. 8, 49080 Osnabrück
GEO:52.26765960000000000000;8.02396190000000000000
SUMMARY:LL 1 Mä.: Osnabrücker SC I - SV Union Lohne
CLASS:PUBLIC
DTSTART:20250111T140000Z
DTSTAMP:20250111T151700Z
END:VEVENT
BEGIN:VEVENT
UID:696602-2da69939ed67427dc6bf3daba21059e9
X-WR-RELCALID:696602-2da69939ed67427dc6bf3daba21059e9
ORGANIZER:Volleyball
SEQUENCE:261141316
LOCATION:Osnabrücker SC Halle B, Hiärm-Grupe-Str. 8, 49080 Osnabrück
GEO:52.26765960000000000000;8.02396190000000000000
SUMMARY:LL 1 Mä.: VfL Lintorf IV - SV Union Lohne
CLASS:PUBLIC
DTSTART:20250111T140500Z
DTSTAMP:20250111T151700Z
END:VEVENT
BEGIN:VEVENT
UID:696620-2da69939ed67427dc6bf3daba21059e9
X-WR-RELCALID:696620-2da69939ed67427dc6bf3daba21059e9
ORGANIZER:Volleyball
SEQUENCE:261141316
LOCATION:Kardinal-von-Galen-Schule, Burgweg, 49477 Ibbenbüren - Laggen
 beck
GEO:52.25673390000000000000;7.78761120000000000000
SUMMARY:LL 1 Mä.: Tecklenburger Land Volleys III - VfL Lintorf IV
CLASS:PUBLIC
DTSTART:20250125T130000Z
DTSTAMP:20240805T212600Z
END:VEVENT
BEGIN:VEVENT
UID:696622-2da69939ed67427dc6bf3daba21059e9
X-WR-RELCALID:696622-2da69939ed67427dc6bf3daba21059e9
ORGANIZER:Volleyball
SEQUENCE:261141316
LOCATION:Kardinal-von-Galen-Schule, Burgweg, 49477 Ibbenbüren - Laggen
 beck
GEO:52.25673390000000000000;7.78761120000000000000
SUMMARY:LL 1 Mä.: Tecklenburger Land Volleys III - VfL Lintorf III
CLASS:PUBLIC
DTSTART:20250125T130000Z
DTSTAMP:20240805T212600Z
END:VEVENT
BEGIN:VEVENT
UID:696628-2da69939ed67427dc6bf3daba21059e9
X-WR-RELCALID:696628-2da69939ed67427dc6bf3daba21059e9
ORGANIZER:Volleyball
SEQUENCE:261141316
LOCATION:Turnhalle Lintorf, Am Hallenbad, 49152 Bad Essen
GEO:52.30556100000000000000;8.43781530000000000000
SUMMARY:LL 1 Mä.: VfL Lintorf IV - SC Twistringen
CLASS:PUBLIC
DTSTART:20250208T130000Z
DTSTAMP:20240805T212600Z
END:VEVENT
BEGIN:VEVENT
UID:696630-2da69939ed67427dc6bf3daba21059e9
X-WR-RELCALID:696630-2da69939ed67427dc6bf3daba21059e9
ORGANIZER:Volleyball
SEQUENCE:261141316
LOCATION:Turnhalle Lintorf, Am Hallenbad, 49152 Bad Essen
GEO:52.30556100000000000000;8.43781530000000000000
SUMMARY:LL 1 Mä.: VfL Lintorf IV - VfL Lintorf III
CLASS:PUBLIC
DTSTART:20250208T130000Z
DTSTAMP:20240805T212600Z
END:VEVENT
BEGIN:VEVENT
UID:696632-2da69939ed67427dc6bf3daba21059e9
X-WR-RELCALID:696632-2da69939ed67427dc6bf3daba21059e9
ORGANIZER:Volleyball
SEQUENCE:261141316
LOCATION:Kardinal-von-Galen-Schule, Burgweg, 49477 Ibbenbüren - Laggen
 beck
GEO:52.25673390000000000000;7.78761120000000000000
SUMMARY:LL 1 Mä.: Tecklenburger Land Volleys III - SV Union Lohne
CLASS:PUBLIC
DTSTART:20250223T100000Z
DTSTAMP:20240805T212600Z
END:VEVENT
BEGIN:VEVENT
UID:696634-2da69939ed67427dc6bf3daba21059e9
X-WR-RELCALID:696634-2da69939ed67427dc6bf3daba21059e9
ORGANIZER:Volleyball
SEQUENCE:261141316
LOCATION:Kardinal-von-Galen-Schule, Burgweg, 49477 Ibbenbüren - Laggen
 beck
GEO:52.25673390000000000000;7.78761120000000000000
SUMMARY:LL 1 Mä.: Tecklenburger Land Volleys III - Osnabrücker SC I
CLASS:PUBLIC
DTSTART:20250223T100000Z
DTSTAMP:20240805T212600Z
END:VEVENT
BEGIN:VEVENT
UID:696637-2da69939ed67427dc6bf3daba21059e9
X-WR-RELCALID:696637-2da69939ed67427dc6bf3daba21059e9
ORGANIZER:Volleyball
SEQUENCE:261141316
LOCATION:Gymnasium Twistringen, Vechtaer Str. 44, 27239 Twistringen
GEO:52.79952000000000000000;8.62478000000000000000
SUMMARY:LL 1 Mä.: SC Twistringen - Tecklenburger Land Volleys III
CLASS:PUBLIC
DTSTART:20250308T140000Z
DTSTAMP:20250111T151700Z
END:VEVENT
BEGIN:VEVENT
UID:696626-2da69939ed67427dc6bf3daba21059e9
X-WR-RELCALID:696626-2da69939ed67427dc6bf3daba21059e9
ORGANIZER:Volleyball
SEQUENCE:261141316
LOCATION:Gymnasium Twistringen, Vechtaer Str. 44, 27239 Twistringen
GEO:52.79952000000000000000;8.62478000000000000000
SUMMARY:LL 1 Mä.: SV Union Lohne - SC Twistringen
CLASS:PUBLIC
DTSTART:20250308T140500Z
DTSTAMP:20250111T151700Z
END:VEVENT
BEGIN:VEVENT
UID:696643-2da69939ed67427dc6bf3daba21059e9
X-WR-RELCALID:696643-2da69939ed67427dc6bf3daba21059e9
ORGANIZER:Volleyball
SEQUENCE:261141316
LOCATION:Turnhalle Lintorf, Am Hallenbad, 49152 Bad Essen
GEO:52.30556100000000000000;8.43781530000000000000
SUMMARY:LL 1 Mä.: VfL Lintorf III - Osnabrücker SC I
CLASS:PUBLIC
DTSTART:20250315T130000Z
DTSTAMP:20240805T212600Z
END:VEVENT
BEGIN:VEVENT
UID:696646-2da69939ed67427dc6bf3daba21059e9
X-WR-RELCALID:696646-2da69939ed67427dc6bf3daba21059e9
ORGANIZER:Volleyball
SEQUENCE:261141316
LOCATION:Turnhalle Lintorf, Am Hallenbad, 49152 Bad Essen
GEO:52.30556100000000000000;8.43781530000000000000
SUMMARY:LL 1 Mä.: VfL Lintorf III - SV Union Lohne
CLASS:PUBLIC
DTSTART:20250315T130000Z
DTSTAMP:20240805T212600Z
END:VEVENT
END:VCALENDAR