BEGIN:VCALENDAR
VERSION:2.0
PRODID:VSD-Portal-www.volley.de
METHOD:PUBLISH
BEGIN:VEVENT
UID:196727-0b1cb5f82de24c98f11e829bddb1f0f9
X-WR-RELCALID:196727-0b1cb5f82de24c98f11e829bddb1f0f9
ORGANIZER:Volleyball
SEQUENCE:261101455
LOCATION:Gymnasium Fürstenried West, Engadinerstraße 1, 81475 München
GEO:48.09157832316958500000;11.48158624040604500000
SUMMARY:REL BZLW Mä.: TSV Forstenried - TSV Inchenhofen
CLASS:PUBLIC
DTSTART:20180415T120000Z
DTSTAMP:20180415T191900Z
END:VEVENT
BEGIN:VEVENT
UID:196729-0b1cb5f82de24c98f11e829bddb1f0f9
X-WR-RELCALID:196729-0b1cb5f82de24c98f11e829bddb1f0f9
ORGANIZER:Volleyball
SEQUENCE:261101455
LOCATION:Gymnasium Fürstenried West, Engadinerstraße 1, 81475 München
GEO:48.09157832316958500000;11.48158624040604500000
SUMMARY:REL BZLW Mä.: TSV Inchenhofen - TSV Lenting
CLASS:PUBLIC
DTSTART:20180415T120000Z
DTSTAMP:20180415T192000Z
END:VEVENT
END:VCALENDAR