BEGIN:VCALENDAR
VERSION:2.0
PRODID:VSD-Portal-www.volley.de
METHOD:PUBLISH
BEGIN:VEVENT
UID:187508-0b1cb5f82de24c98f11e829bddb1f0f9
X-WR-RELCALID:187508-0b1cb5f82de24c98f11e829bddb1f0f9
ORGANIZER:Volleyball
SEQUENCE:261150338
SUMMARY:BZLO Mä.: TSV Grafing III - SVN München e.V.
CLASS:PUBLIC
DTSTART:20171007T120000Z
DTSTAMP:20171015T161400Z
END:VEVENT
BEGIN:VEVENT
UID:187509-0b1cb5f82de24c98f11e829bddb1f0f9
X-WR-RELCALID:187509-0b1cb5f82de24c98f11e829bddb1f0f9
ORGANIZER:Volleyball
SEQUENCE:261150338
SUMMARY:BZLO Mä.: TSV Grafing III - MTV Rosenheim
CLASS:PUBLIC
DTSTART:20171007T120000Z
DTSTAMP:20171015T160100Z
END:VEVENT
BEGIN:VEVENT
UID:187535-0b1cb5f82de24c98f11e829bddb1f0f9
X-WR-RELCALID:187535-0b1cb5f82de24c98f11e829bddb1f0f9
ORGANIZER:Volleyball
SEQUENCE:261150338
SUMMARY:BZLO Mä.: TSV Grafing III - MTV Rosenheim II
CLASS:PUBLIC
DTSTART:20171209T130000Z
DTSTAMP:20171215T102700Z
END:VEVENT
BEGIN:VEVENT
UID:187536-0b1cb5f82de24c98f11e829bddb1f0f9
X-WR-RELCALID:187536-0b1cb5f82de24c98f11e829bddb1f0f9
ORGANIZER:Volleyball
SEQUENCE:261150338
SUMMARY:BZLO Mä.: TSV Grafing III - SV Lohhof
CLASS:PUBLIC
DTSTART:20171209T130000Z
DTSTAMP:20171215T103800Z
END:VEVENT
BEGIN:VEVENT
UID:187562-0b1cb5f82de24c98f11e829bddb1f0f9
X-WR-RELCALID:187562-0b1cb5f82de24c98f11e829bddb1f0f9
ORGANIZER:Volleyball
SEQUENCE:261150338
LOCATION:Gymnasium, Jahnstraße 17, 85567 Grafing
GEO:48.04461780143573400000;11.96064935714719000000
SUMMARY:BZLO Mä.: TSV Grafing III - MTV München III
CLASS:PUBLIC
DTSTART:20180127T130000Z
DTSTAMP:20180202T183800Z
END:VEVENT
BEGIN:VEVENT
UID:187563-0b1cb5f82de24c98f11e829bddb1f0f9
X-WR-RELCALID:187563-0b1cb5f82de24c98f11e829bddb1f0f9
ORGANIZER:Volleyball
SEQUENCE:261150338
LOCATION:Gymnasium, Jahnstraße 17, 85567 Grafing
GEO:48.04461780143573400000;11.96064935714719000000
SUMMARY:BZLO Mä.: TSV Grafing III - SC Freising II
CLASS:PUBLIC
DTSTART:20180127T130000Z
DTSTAMP:20180202T185500Z
END:VEVENT
END:VCALENDAR