BEGIN:VCALENDAR
VERSION:2.0
PRODID:VSD-Portal-www.volley.de
METHOD:PUBLISH
BEGIN:VEVENT
UID:684866-2da69939ed67427dc6bf3daba21059e9
X-WR-RELCALID:684866-2da69939ed67427dc6bf3daba21059e9
ORGANIZER:Volleyball
SEQUENCE:261110131
LOCATION:Kooperative GS Wilhelm von Humboldt, Sanddornweg 16, 06122 Ha
 lle
GEO:51.48531800000000000000;11.93463480000000000000
SUMMARY:LKl S Fr.: SG Einheit Halle III - SG Einheit Halle II
CLASS:PUBLIC
DTSTART:20240921T080000Z
DTSTAMP:20240913T221000Z
END:VEVENT
BEGIN:VEVENT
UID:684867-2da69939ed67427dc6bf3daba21059e9
X-WR-RELCALID:684867-2da69939ed67427dc6bf3daba21059e9
ORGANIZER:Volleyball
SEQUENCE:261110131
LOCATION:Kooperative GS Wilhelm von Humboldt, Sanddornweg 16, 06122 Ha
 lle
GEO:51.48531800000000000000;11.93463480000000000000
SUMMARY:LKl S Fr.: SG Einheit Halle III - USV Halle Volleys III
CLASS:PUBLIC
DTSTART:20240921T080000Z
DTSTAMP:20240913T221000Z
END:VEVENT
BEGIN:VEVENT
UID:684878-2da69939ed67427dc6bf3daba21059e9
X-WR-RELCALID:684878-2da69939ed67427dc6bf3daba21059e9
ORGANIZER:Volleyball
SEQUENCE:261110131
LOCATION:Giebichenstein-Gymnasium „Thomas Müntzer“, Friedenstraße 33, 
 06114 Halle (Saale)
GEO:51.50123130000000000000;11.95857270000000000000
SUMMARY:LKl S Fr.: USV Halle Volleys III - SG Einheit Halle III
CLASS:PUBLIC
DTSTART:20241103T090000Z
DTSTAMP:20240731T220400Z
END:VEVENT
BEGIN:VEVENT
UID:684880-2da69939ed67427dc6bf3daba21059e9
X-WR-RELCALID:684880-2da69939ed67427dc6bf3daba21059e9
ORGANIZER:Volleyball
SEQUENCE:261110131
LOCATION:Giebichenstein-Gymnasium „Thomas Müntzer“, Friedenstraße 33, 
 06114 Halle (Saale)
GEO:51.50123130000000000000;11.95857270000000000000
SUMMARY:LKl S Fr.: SG Einheit Halle III - SV Braunsbedra II
CLASS:PUBLIC
DTSTART:20241103T090000Z
DTSTAMP:20240731T220400Z
END:VEVENT
BEGIN:VEVENT
UID:684884-2da69939ed67427dc6bf3daba21059e9
X-WR-RELCALID:684884-2da69939ed67427dc6bf3daba21059e9
ORGANIZER:Volleyball
SEQUENCE:261110131
LOCATION:Sekundarschule Halle-Süd, Kurt-Wüsteneck-Straße 21, 06132 Hal
 le
GEO:51.42937270000000000000;11.97973980000000000000
SUMMARY:LKl S Fr.: SG Einheit Halle III - HSG Merseburg
CLASS:PUBLIC
DTSTART:20241116T090000Z
DTSTAMP:20240731T220400Z
END:VEVENT
BEGIN:VEVENT
UID:684885-2da69939ed67427dc6bf3daba21059e9
X-WR-RELCALID:684885-2da69939ed67427dc6bf3daba21059e9
ORGANIZER:Volleyball
SEQUENCE:261110131
LOCATION:Sekundarschule Halle-Süd, Kurt-Wüsteneck-Straße 21, 06132 Hal
 le
GEO:51.42937270000000000000;11.97973980000000000000
SUMMARY:LKl S Fr.: SG Einheit Halle III - Dessau Volleys II
CLASS:PUBLIC
DTSTART:20241116T090000Z
DTSTAMP:20240731T220400Z
END:VEVENT
BEGIN:VEVENT
UID:684890-2da69939ed67427dc6bf3daba21059e9
X-WR-RELCALID:684890-2da69939ed67427dc6bf3daba21059e9
ORGANIZER:Volleyball
SEQUENCE:261110131
SUMMARY:LKl S Fr.: HSG Merseburg - SG Einheit Halle III
CLASS:PUBLIC
DTSTART:20241208T090000Z
DTSTAMP:20240731T220400Z
END:VEVENT
BEGIN:VEVENT
UID:684892-2da69939ed67427dc6bf3daba21059e9
X-WR-RELCALID:684892-2da69939ed67427dc6bf3daba21059e9
ORGANIZER:Volleyball
SEQUENCE:261110131
SUMMARY:LKl S Fr.: SG Einheit Halle III - SG Einheit Halle II
CLASS:PUBLIC
DTSTART:20241208T090000Z
DTSTAMP:20240731T220400Z
END:VEVENT
BEGIN:VEVENT
UID:684873-2da69939ed67427dc6bf3daba21059e9
X-WR-RELCALID:684873-2da69939ed67427dc6bf3daba21059e9
ORGANIZER:Volleyball
SEQUENCE:261110131
LOCATION:Glück-auf-Halle, Friedensstr. 38, 06295 Lutherstadt Eisleben
GEO:51.52194000000000000000;11.54564000000000000000
SUMMARY:LKl S Fr.: TVC 99 Eisleben - SG Einheit Halle III
CLASS:PUBLIC
DTSTART:20250119T090000Z
DTSTAMP:20241005T080000Z
END:VEVENT
BEGIN:VEVENT
UID:684874-2da69939ed67427dc6bf3daba21059e9
X-WR-RELCALID:684874-2da69939ed67427dc6bf3daba21059e9
ORGANIZER:Volleyball
SEQUENCE:261110131
LOCATION:Glück-auf-Halle, Friedensstr. 38, 06295 Lutherstadt Eisleben
GEO:51.52194000000000000000;11.54564000000000000000
SUMMARY:LKl S Fr.: Dessau Volleys II - SG Einheit Halle III
CLASS:PUBLIC
DTSTART:20250119T090000Z
DTSTAMP:20241005T080000Z
END:VEVENT
BEGIN:VEVENT
UID:684900-2da69939ed67427dc6bf3daba21059e9
X-WR-RELCALID:684900-2da69939ed67427dc6bf3daba21059e9
ORGANIZER:Volleyball
SEQUENCE:261110131
LOCATION:Glück-auf-Halle, Friedensstr. 38, 06295 Lutherstadt Eisleben
GEO:51.52194000000000000000;11.54564000000000000000
SUMMARY:LKl S Fr.: TVC 99 Eisleben - SG Einheit Halle III
CLASS:PUBLIC
DTSTART:20250316T090000Z
DTSTAMP:20240731T220400Z
END:VEVENT
BEGIN:VEVENT
UID:684901-2da69939ed67427dc6bf3daba21059e9
X-WR-RELCALID:684901-2da69939ed67427dc6bf3daba21059e9
ORGANIZER:Volleyball
SEQUENCE:261110131
LOCATION:Glück-auf-Halle, Friedensstr. 38, 06295 Lutherstadt Eisleben
GEO:51.52194000000000000000;11.54564000000000000000
SUMMARY:LKl S Fr.: SV Braunsbedra II - SG Einheit Halle III
CLASS:PUBLIC
DTSTART:20250316T090000Z
DTSTAMP:20240731T220400Z
END:VEVENT
END:VCALENDAR