BEGIN:VCALENDAR
VERSION:2.0
PRODID:VSD-Portal-www.volley.de
METHOD:PUBLISH
BEGIN:VEVENT
UID:683895-2da69939ed67427dc6bf3daba21059e9
X-WR-RELCALID:683895-2da69939ed67427dc6bf3daba21059e9
ORGANIZER:Volleyball
SEQUENCE:261152141
LOCATION:Liebenauhalle, Reutlinger Str. 31, 72666 Neckartailfingen
GEO:48.60914070000000000000;9.26755250000000000000
SUMMARY:BKl 5 Fr.: TSV Neckartailfingen - TSV Neckartailfingen 2
CLASS:PUBLIC
DTSTART:20241007T170000Z
DTSTAMP:20240731T215800Z
END:VEVENT
BEGIN:VEVENT
UID:683900-2da69939ed67427dc6bf3daba21059e9
X-WR-RELCALID:683900-2da69939ed67427dc6bf3daba21059e9
ORGANIZER:Volleyball
SEQUENCE:261152141
LOCATION:Liebenauhalle, Reutlinger Str. 31, 72666 Neckartailfingen
GEO:48.60914070000000000000;9.26755250000000000000
SUMMARY:BKl 5 Fr.: TSV Neckartailfingen 2 - Volleyball Akademie Stuttg
 art 6
CLASS:PUBLIC
DTSTART:20241102T130000Z
DTSTAMP:20240731T215800Z
END:VEVENT
BEGIN:VEVENT
UID:683903-2da69939ed67427dc6bf3daba21059e9
X-WR-RELCALID:683903-2da69939ed67427dc6bf3daba21059e9
ORGANIZER:Volleyball
SEQUENCE:261152141
LOCATION:Liebenauhalle, Reutlinger Str. 31, 72666 Neckartailfingen
GEO:48.60914070000000000000;9.26755250000000000000
SUMMARY:BKl 5 Fr.: TSV Neckartailfingen 2 - TSV Linsenhofen
CLASS:PUBLIC
DTSTART:20241102T140000Z
DTSTAMP:20240731T215800Z
END:VEVENT
BEGIN:VEVENT
UID:683908-2da69939ed67427dc6bf3daba21059e9
X-WR-RELCALID:683908-2da69939ed67427dc6bf3daba21059e9
ORGANIZER:Volleyball
SEQUENCE:261152141
LOCATION:Liebenauhalle, Reutlinger Str. 31, 72666 Neckartailfingen
GEO:48.60914070000000000000;9.26755250000000000000
SUMMARY:BKl 5 Fr.: TSV Neckartailfingen 2 - TSV G.A. Stuttgart 5
CLASS:PUBLIC
DTSTART:20241116T110000Z
DTSTAMP:20241115T160000Z
END:VEVENT
BEGIN:VEVENT
UID:683909-2da69939ed67427dc6bf3daba21059e9
X-WR-RELCALID:683909-2da69939ed67427dc6bf3daba21059e9
ORGANIZER:Volleyball
SEQUENCE:261152141
LOCATION:Liebenauhalle, Reutlinger Str. 31, 72666 Neckartailfingen
GEO:48.60914070000000000000;9.26755250000000000000
SUMMARY:BKl 5 Fr.: TSV Neckartailfingen 2 - SC Weiler/F. 3
CLASS:PUBLIC
DTSTART:20241116T120000Z
DTSTAMP:20241115T160000Z
END:VEVENT
BEGIN:VEVENT
UID:683914-2da69939ed67427dc6bf3daba21059e9
X-WR-RELCALID:683914-2da69939ed67427dc6bf3daba21059e9
ORGANIZER:Volleyball
SEQUENCE:261152141
LOCATION:Sporthalle Hölderlin Gymnasium, Am Lerchenberg 75, 72622 Nürt
 ingen
GEO:48.61469000000000000000;9.33668400000000000000
SUMMARY:BKl 5 Fr.: TG Nürtingen 3 - TSV Neckartailfingen 2
CLASS:PUBLIC
DTSTART:20241215T103000Z
DTSTAMP:20240731T215800Z
END:VEVENT
BEGIN:VEVENT
UID:683923-2da69939ed67427dc6bf3daba21059e9
X-WR-RELCALID:683923-2da69939ed67427dc6bf3daba21059e9
ORGANIZER:Volleyball
SEQUENCE:261152141
LOCATION:Liebenauhalle, Reutlinger Str. 31, 72666 Neckartailfingen
GEO:48.60914070000000000000;9.26755250000000000000
SUMMARY:BKl 5 Fr.: TSV Neckartailfingen 2 - TSV Neckartailfingen
CLASS:PUBLIC
DTSTART:20250116T180000Z
DTSTAMP:20250318T100100Z
END:VEVENT
BEGIN:VEVENT
UID:683927-2da69939ed67427dc6bf3daba21059e9
X-WR-RELCALID:683927-2da69939ed67427dc6bf3daba21059e9
ORGANIZER:Volleyball
SEQUENCE:261152141
LOCATION:MTV-Halle MoTiV, Furtwänglerstraße 145, , 70195 Stuttgart
GEO:48.77909960000000000000;9.12894990000000000000
SUMMARY:BKl 5 Fr.: Volleyball Akademie Stuttgart 6 - TSV Neckartailfin
 gen 2
CLASS:PUBLIC
DTSTART:20250125T100000Z
DTSTAMP:20240806T153000Z
END:VEVENT
BEGIN:VEVENT
UID:683932-2da69939ed67427dc6bf3daba21059e9
X-WR-RELCALID:683932-2da69939ed67427dc6bf3daba21059e9
ORGANIZER:Volleyball
SEQUENCE:261152141
LOCATION:Otto-Maisch-Halle Linsenhofen, Im Käppele 29, 72636 Frickenha
 usen-Linsenhofen
GEO:48.58270000000000000000;9.37474000000000000000
SUMMARY:BKl 5 Fr.: TSV Linsenhofen - TSV Neckartailfingen 2
CLASS:PUBLIC
DTSTART:20250209T130000Z
DTSTAMP:20241129T150000Z
END:VEVENT
BEGIN:VEVENT
UID:683913-2da69939ed67427dc6bf3daba21059e9
X-WR-RELCALID:683913-2da69939ed67427dc6bf3daba21059e9
ORGANIZER:Volleyball
SEQUENCE:261152141
LOCATION:Markus-Rehm-Halle, Dobelstraße 20, 73072 Donzdorf-Reichenbach
  u.R.
GEO:48.71300000000000000000;9.79592000000000000000
SUMMARY:BKl 5 Fr.: TG Reichenbach - TSV Neckartailfingen 2
CLASS:PUBLIC
DTSTART:20250215T100000Z
DTSTAMP:20250317T210100Z
END:VEVENT
BEGIN:VEVENT
UID:683935-2da69939ed67427dc6bf3daba21059e9
X-WR-RELCALID:683935-2da69939ed67427dc6bf3daba21059e9
ORGANIZER:Volleyball
SEQUENCE:261152141
LOCATION:Liebenauhalle, Reutlinger Str. 31, 72666 Neckartailfingen
GEO:48.60914070000000000000;9.26755250000000000000
SUMMARY:BKl 5 Fr.: TSV Neckartailfingen 2 - TG Nürtingen 3
CLASS:PUBLIC
DTSTART:20250222T130000Z
DTSTAMP:20240731T215800Z
END:VEVENT
BEGIN:VEVENT
UID:683942-2da69939ed67427dc6bf3daba21059e9
X-WR-RELCALID:683942-2da69939ed67427dc6bf3daba21059e9
ORGANIZER:Volleyball
SEQUENCE:261152141
LOCATION:Allianz Park Stuttgart, Heßbrühlstr. 2, 70565 Stuttgart-Vaihi
 ngen
GEO:48.72310430000000000000;9.11191530000000000000
SUMMARY:BKl 5 Fr.: TSV G.A. Stuttgart 5 - TSV Neckartailfingen 2
CLASS:PUBLIC
DTSTART:20250308T130000Z
DTSTAMP:20240731T215800Z
END:VEVENT
BEGIN:VEVENT
UID:683938-2da69939ed67427dc6bf3daba21059e9
X-WR-RELCALID:683938-2da69939ed67427dc6bf3daba21059e9
ORGANIZER:Volleyball
SEQUENCE:261152141
LOCATION:Liebenauhalle, Reutlinger Str. 31, 72666 Neckartailfingen
GEO:48.60914070000000000000;9.26755250000000000000
SUMMARY:BKl 5 Fr.: TSV Neckartailfingen 2 - TG Reichenbach
CLASS:PUBLIC
DTSTART:20250320T181500Z
DTSTAMP:20250313T181600Z
END:VEVENT
BEGIN:VEVENT
UID:683956-2da69939ed67427dc6bf3daba21059e9
X-WR-RELCALID:683956-2da69939ed67427dc6bf3daba21059e9
ORGANIZER:Volleyball
SEQUENCE:261152141
LOCATION:Gemeindehalle Weiler, Schubertstr. 14, 73061 Ebersbach/Fils-W
 eiler
GEO:48.70421000000000000000;9.50806000000000000000
SUMMARY:BKl 5 Fr.: SC Weiler/F. 3 - TSV Neckartailfingen 2
CLASS:PUBLIC
DTSTART:20250323T130000Z
DTSTAMP:20240731T215800Z
END:VEVENT
END:VCALENDAR