BEGIN:VCALENDAR
VERSION:2.0
PRODID:VSD-Portal-www.volley.de
METHOD:PUBLISH
BEGIN:VEVENT
UID:675139-2da69939ed67427dc6bf3daba21059e9
X-WR-RELCALID:675139-2da69939ed67427dc6bf3daba21059e9
ORGANIZER:Volleyball
SEQUENCE:261100644
LOCATION:Sporthalle Ober-Roden, Kapellenstr. 14, 63322 Rödermark
GEO:49.98446840000000000000;8.81750380000000000000
SUMMARY:RL SW Mä.: VC Ober-Roden - SSC Vellmar
CLASS:PUBLIC
DTSTART:20240921T170000Z
DTSTAMP:20241109T193600Z
END:VEVENT
BEGIN:VEVENT
UID:675147-2da69939ed67427dc6bf3daba21059e9
X-WR-RELCALID:675147-2da69939ed67427dc6bf3daba21059e9
ORGANIZER:Volleyball
SEQUENCE:261100644
LOCATION:Sporthalle Ober-Roden, Kapellenstr. 14, 63322 Rödermark
GEO:49.98446840000000000000;8.81750380000000000000
SUMMARY:RL SW Mä.: VC Ober-Roden - VJF Frankfurt II
CLASS:PUBLIC
DTSTART:20240929T140000Z
DTSTAMP:20241109T193600Z
END:VEVENT
BEGIN:VEVENT
UID:675151-2da69939ed67427dc6bf3daba21059e9
X-WR-RELCALID:675151-2da69939ed67427dc6bf3daba21059e9
ORGANIZER:Volleyball
SEQUENCE:261100644
LOCATION:Sporthalle Ober-Roden, Kapellenstr. 14, 63322 Rödermark
GEO:49.98446840000000000000;8.81750380000000000000
SUMMARY:RL SW Mä.: VC Ober-Roden - TV Walpershofen
CLASS:PUBLIC
DTSTART:20241012T170000Z
DTSTAMP:20241109T193600Z
END:VEVENT
BEGIN:VEVENT
UID:675157-2da69939ed67427dc6bf3daba21059e9
X-WR-RELCALID:675157-2da69939ed67427dc6bf3daba21059e9
ORGANIZER:Volleyball
SEQUENCE:261100644
LOCATION:Sporthalle Ober-Roden, Kapellenstr. 14, 63322 Rödermark
GEO:49.98446840000000000000;8.81750380000000000000
SUMMARY:RL SW Mä.: VC Ober-Roden - TV Wiesbach
CLASS:PUBLIC
DTSTART:20241109T180000Z
DTSTAMP:20241109T193600Z
END:VEVENT
BEGIN:VEVENT
UID:675170-2da69939ed67427dc6bf3daba21059e9
X-WR-RELCALID:675170-2da69939ed67427dc6bf3daba21059e9
ORGANIZER:Volleyball
SEQUENCE:261100644
LOCATION:Sporthalle Ober-Roden, Kapellenstr. 14, 63322 Rödermark
GEO:49.98446840000000000000;8.81750380000000000000
SUMMARY:RL SW Mä.: VC Ober-Roden - TV Waldgirmes
CLASS:PUBLIC
DTSTART:20241123T180000Z
DTSTAMP:20241109T193600Z
END:VEVENT
BEGIN:VEVENT
UID:675182-2da69939ed67427dc6bf3daba21059e9
X-WR-RELCALID:675182-2da69939ed67427dc6bf3daba21059e9
ORGANIZER:Volleyball
SEQUENCE:261100644
LOCATION:Sporthalle Ober-Roden, Kapellenstr. 14, 63322 Rödermark
GEO:49.98446840000000000000;8.81750380000000000000
SUMMARY:RL SW Mä.: VC Ober-Roden - TGM Mainz-Gonsenheim
CLASS:PUBLIC
DTSTART:20241214T180000Z
DTSTAMP:20241121T151500Z
END:VEVENT
BEGIN:VEVENT
UID:675190-2da69939ed67427dc6bf3daba21059e9
X-WR-RELCALID:675190-2da69939ed67427dc6bf3daba21059e9
ORGANIZER:Volleyball
SEQUENCE:261100644
LOCATION:Halle Urberach, Rödermark, Am Schellbusch 1, 63322 Rödermark
GEO:49.97119920000000000000;8.79914210000000000000
SUMMARY:RL SW Mä.: VC Ober-Roden - LAF Sinzig
CLASS:PUBLIC
DTSTART:20250111T180000Z
DTSTAMP:20241109T193600Z
END:VEVENT
BEGIN:VEVENT
UID:675203-2da69939ed67427dc6bf3daba21059e9
X-WR-RELCALID:675203-2da69939ed67427dc6bf3daba21059e9
ORGANIZER:Volleyball
SEQUENCE:261100644
LOCATION:Sporthalle Ober-Roden, Kapellenstr. 14, 63322 Rödermark
GEO:49.98446840000000000000;8.81750380000000000000
SUMMARY:RL SW Mä.: VC Ober-Roden - DSW Darmstadt
CLASS:PUBLIC
DTSTART:20250126T150000Z
DTSTAMP:20241109T193600Z
END:VEVENT
BEGIN:VEVENT
UID:675219-2da69939ed67427dc6bf3daba21059e9
X-WR-RELCALID:675219-2da69939ed67427dc6bf3daba21059e9
ORGANIZER:Volleyball
SEQUENCE:261100644
LOCATION:Sporthalle Ober-Roden, Kapellenstr. 14, 63322 Rödermark
GEO:49.98446840000000000000;8.81750380000000000000
SUMMARY:RL SW Mä.: VC Ober-Roden - TV Feldkirchen
CLASS:PUBLIC
DTSTART:20250222T180000Z
DTSTAMP:20241109T193600Z
END:VEVENT
BEGIN:VEVENT
UID:675234-2da69939ed67427dc6bf3daba21059e9
X-WR-RELCALID:675234-2da69939ed67427dc6bf3daba21059e9
ORGANIZER:Volleyball
SEQUENCE:261100644
LOCATION:Sporthalle Ober-Roden, Kapellenstr. 14, 63322 Rödermark
GEO:49.98446840000000000000;8.81750380000000000000
SUMMARY:RL SW Mä.: VC Ober-Roden - SG Rodheim
CLASS:PUBLIC
DTSTART:20250323T150000Z
DTSTAMP:20241109T193600Z
END:VEVENT
END:VCALENDAR