BEGIN:VCALENDAR
VERSION:2.0
PRODID:VSD-Portal-www.volley.de
METHOD:PUBLISH
BEGIN:VEVENT
UID:710829-2da69939ed67427dc6bf3daba21059e9
X-WR-RELCALID:710829-2da69939ed67427dc6bf3daba21059e9
ORGANIZER:Volleyball
SEQUENCE:261101359
SUMMARY:1. BL Fr.: SSC Palmberg Schwerin - VfB Suhl LOTTO Thüringen
CLASS:PUBLIC
DTSTART:20250405T151500Z
DTSTAMP:20250405T164100Z
END:VEVENT
END:VCALENDAR