BEGIN:VCALENDAR
VERSION:2.0
PRODID:VSD-Portal-www.volley.de
METHOD:PUBLISH
BEGIN:VEVENT
UID:674401-2da69939ed67427dc6bf3daba21059e9
X-WR-RELCALID:674401-2da69939ed67427dc6bf3daba21059e9
ORGANIZER:Volleyball
SEQUENCE:261100025
LOCATION:Palmberg Arena, Von-Flotow-Str. 20, 19059 Schwerin
GEO:53.62527000000000000000;11.39525000000000000000
SUMMARY:1. BL Fr.: SSC Palmberg Schwerin - VC Wiesbaden
CLASS:PUBLIC
DTSTART:20240928T160000Z
DTSTAMP:20240703T165400Z
END:VEVENT
BEGIN:VEVENT
UID:674415-2da69939ed67427dc6bf3daba21059e9
X-WR-RELCALID:674415-2da69939ed67427dc6bf3daba21059e9
ORGANIZER:Volleyball
SEQUENCE:261100025
LOCATION:Palmberg Arena, Von-Flotow-Str. 20, 19059 Schwerin
GEO:53.62527000000000000000;11.39525000000000000000
SUMMARY:1. BL Fr.: SSC Palmberg Schwerin - VfB Suhl LOTTO Thüringen
CLASS:PUBLIC
DTSTART:20241012T160000Z
DTSTAMP:20240703T165400Z
END:VEVENT
BEGIN:VEVENT
UID:674421-2da69939ed67427dc6bf3daba21059e9
X-WR-RELCALID:674421-2da69939ed67427dc6bf3daba21059e9
ORGANIZER:Volleyball
SEQUENCE:261100025
LOCATION:Palmberg Arena, Von-Flotow-Str. 20, 19059 Schwerin
GEO:53.62527000000000000000;11.39525000000000000000
SUMMARY:1. BL Fr.: SSC Palmberg Schwerin - Dresdner SC
CLASS:PUBLIC
DTSTART:20241026T151500Z
DTSTAMP:20240703T165400Z
END:VEVENT
BEGIN:VEVENT
UID:674430-2da69939ed67427dc6bf3daba21059e9
X-WR-RELCALID:674430-2da69939ed67427dc6bf3daba21059e9
ORGANIZER:Volleyball
SEQUENCE:261100025
LOCATION:Palmberg Arena, Von-Flotow-Str. 20, 19059 Schwerin
GEO:53.62527000000000000000;11.39525000000000000000
SUMMARY:1. BL Fr.: SSC Palmberg Schwerin - Schwarz-Weiß Erfurt
CLASS:PUBLIC
DTSTART:20241102T170000Z
DTSTAMP:20240703T165400Z
END:VEVENT
BEGIN:VEVENT
UID:674436-2da69939ed67427dc6bf3daba21059e9
X-WR-RELCALID:674436-2da69939ed67427dc6bf3daba21059e9
ORGANIZER:Volleyball
SEQUENCE:261100025
LOCATION:Palmberg Arena, Von-Flotow-Str. 20, 19059 Schwerin
GEO:53.62527000000000000000;11.39525000000000000000
SUMMARY:1. BL Fr.: SSC Palmberg Schwerin - USC Münster
CLASS:PUBLIC
DTSTART:20241116T170000Z
DTSTAMP:20240703T165400Z
END:VEVENT
BEGIN:VEVENT
UID:674446-2da69939ed67427dc6bf3daba21059e9
X-WR-RELCALID:674446-2da69939ed67427dc6bf3daba21059e9
ORGANIZER:Volleyball
SEQUENCE:261100025
LOCATION:Palmberg Arena, Von-Flotow-Str. 20, 19059 Schwerin
GEO:53.62527000000000000000;11.39525000000000000000
SUMMARY:1. BL Fr.: SSC Palmberg Schwerin - SC Potsdam
CLASS:PUBLIC
DTSTART:20241207T170000Z
DTSTAMP:20240703T165400Z
END:VEVENT
BEGIN:VEVENT
UID:674453-2da69939ed67427dc6bf3daba21059e9
X-WR-RELCALID:674453-2da69939ed67427dc6bf3daba21059e9
ORGANIZER:Volleyball
SEQUENCE:261100025
LOCATION:Palmberg Arena, Von-Flotow-Str. 20, 19059 Schwerin
GEO:53.62527000000000000000;11.39525000000000000000
SUMMARY:1. BL Fr.: SSC Palmberg Schwerin - Allianz MTV Stuttgart
CLASS:PUBLIC
DTSTART:20241221T164500Z
DTSTAMP:20240703T165400Z
END:VEVENT
BEGIN:VEVENT
UID:674461-2da69939ed67427dc6bf3daba21059e9
X-WR-RELCALID:674461-2da69939ed67427dc6bf3daba21059e9
ORGANIZER:Volleyball
SEQUENCE:261100025
LOCATION:Palmberg Arena, Von-Flotow-Str. 20, 19059 Schwerin
GEO:53.62527000000000000000;11.39525000000000000000
SUMMARY:1. BL Fr.: SSC Palmberg Schwerin - Ladies in Black Aachen
CLASS:PUBLIC
DTSTART:20250104T170000Z
DTSTAMP:20240703T165400Z
END:VEVENT
BEGIN:VEVENT
UID:674469-2da69939ed67427dc6bf3daba21059e9
X-WR-RELCALID:674469-2da69939ed67427dc6bf3daba21059e9
ORGANIZER:Volleyball
SEQUENCE:261100025
LOCATION:Palmberg Arena, Von-Flotow-Str. 20, 19059 Schwerin
GEO:53.62527000000000000000;11.39525000000000000000
SUMMARY:1. BL Fr.: SSC Palmberg Schwerin - Allianz MTV Stuttgart
CLASS:PUBLIC
DTSTART:20250115T170000Z
DTSTAMP:20240703T165400Z
END:VEVENT
BEGIN:VEVENT
UID:674475-2da69939ed67427dc6bf3daba21059e9
X-WR-RELCALID:674475-2da69939ed67427dc6bf3daba21059e9
ORGANIZER:Volleyball
SEQUENCE:261100025
LOCATION:Palmberg Arena, Von-Flotow-Str. 20, 19059 Schwerin
GEO:53.62527000000000000000;11.39525000000000000000
SUMMARY:1. BL Fr.: SSC Palmberg Schwerin - VC Wiesbaden
CLASS:PUBLIC
DTSTART:20250125T161500Z
DTSTAMP:20241209T111500Z
END:VEVENT
BEGIN:VEVENT
UID:674489-2da69939ed67427dc6bf3daba21059e9
X-WR-RELCALID:674489-2da69939ed67427dc6bf3daba21059e9
ORGANIZER:Volleyball
SEQUENCE:261100025
LOCATION:Palmberg Arena, Von-Flotow-Str. 20, 19059 Schwerin
GEO:53.62527000000000000000;11.39525000000000000000
SUMMARY:1. BL Fr.: SSC Palmberg Schwerin - USC Münster
CLASS:PUBLIC
DTSTART:20250212T170000Z
DTSTAMP:20240703T165400Z
END:VEVENT
BEGIN:VEVENT
UID:674498-2da69939ed67427dc6bf3daba21059e9
X-WR-RELCALID:674498-2da69939ed67427dc6bf3daba21059e9
ORGANIZER:Volleyball
SEQUENCE:261100025
LOCATION:Palmberg Arena, Von-Flotow-Str. 20, 19059 Schwerin
GEO:53.62527000000000000000;11.39525000000000000000
SUMMARY:1. BL Fr.: SSC Palmberg Schwerin - Dresdner SC
CLASS:PUBLIC
DTSTART:20250222T161500Z
DTSTAMP:20241209T113000Z
END:VEVENT
END:VCALENDAR