BEGIN:VCALENDAR
VERSION:2.0
PRODID:VSD-Portal-www.volley.de
METHOD:PUBLISH
BEGIN:VEVENT
UID:639502-2da69939ed67427dc6bf3daba21059e9
X-WR-RELCALID:639502-2da69939ed67427dc6bf3daba21059e9
ORGANIZER:Volleyball
SEQUENCE:261150136
LOCATION:Arena Kreis Düren, Nippesstraße 4, 52349 Düren
GEO:50.79286830000000000000;6.48827330000000000000
SUMMARY:1. BL Mä.: SWD powervolleys Düren - TSV Haching München
CLASS:PUBLIC
DTSTART:20231029T140000Z
DTSTAMP:20230718T170800Z
END:VEVENT
BEGIN:VEVENT
UID:639508-2da69939ed67427dc6bf3daba21059e9
X-WR-RELCALID:639508-2da69939ed67427dc6bf3daba21059e9
ORGANIZER:Volleyball
SEQUENCE:261150136
LOCATION:Arena Kreis Düren, Nippesstraße 4, 52349 Düren
GEO:50.79286830000000000000;6.48827330000000000000
SUMMARY:1. BL Mä.: SWD powervolleys Düren - Helios GRIZZLYS Giesen
CLASS:PUBLIC
DTSTART:20231102T180000Z
DTSTAMP:20230718T170800Z
END:VEVENT
BEGIN:VEVENT
UID:639514-2da69939ed67427dc6bf3daba21059e9
X-WR-RELCALID:639514-2da69939ed67427dc6bf3daba21059e9
ORGANIZER:Volleyball
SEQUENCE:261150136
LOCATION:Arena Kreis Düren, Nippesstraße 4, 52349 Düren
GEO:50.79286830000000000000;6.48827330000000000000
SUMMARY:1. BL Mä.: SWD powervolleys Düren - ASV Dachau
CLASS:PUBLIC
DTSTART:20231109T190000Z
DTSTAMP:20230718T170800Z
END:VEVENT
BEGIN:VEVENT
UID:639521-2da69939ed67427dc6bf3daba21059e9
X-WR-RELCALID:639521-2da69939ed67427dc6bf3daba21059e9
ORGANIZER:Volleyball
SEQUENCE:261150136
LOCATION:Arena Kreis Düren, Nippesstraße 4, 52349 Düren
GEO:50.79286830000000000000;6.48827330000000000000
SUMMARY:1. BL Mä.: SWD powervolleys Düren - FT 1844 Freiburg
CLASS:PUBLIC
DTSTART:20231114T180000Z
DTSTAMP:20230718T170800Z
END:VEVENT
BEGIN:VEVENT
UID:639534-2da69939ed67427dc6bf3daba21059e9
X-WR-RELCALID:639534-2da69939ed67427dc6bf3daba21059e9
ORGANIZER:Volleyball
SEQUENCE:261150136
LOCATION:Arena Kreis Düren, Nippesstraße 4, 52349 Düren
GEO:50.79286830000000000000;6.48827330000000000000
SUMMARY:1. BL Mä.: SWD powervolleys Düren - BADEN VOLLEYS SSC Karlsruh
 e
CLASS:PUBLIC
DTSTART:20231202T160000Z
DTSTAMP:20230718T170800Z
END:VEVENT
BEGIN:VEVENT
UID:639548-2da69939ed67427dc6bf3daba21059e9
X-WR-RELCALID:639548-2da69939ed67427dc6bf3daba21059e9
ORGANIZER:Volleyball
SEQUENCE:261150136
LOCATION:Arena Kreis Düren, Nippesstraße 4, 52349 Düren
GEO:50.79286830000000000000;6.48827330000000000000
SUMMARY:1. BL Mä.: SWD powervolleys Düren - SVG Lüneburg
CLASS:PUBLIC
DTSTART:20231217T140000Z
DTSTAMP:20230718T170800Z
END:VEVENT
BEGIN:VEVENT
UID:639556-2da69939ed67427dc6bf3daba21059e9
X-WR-RELCALID:639556-2da69939ed67427dc6bf3daba21059e9
ORGANIZER:Volleyball
SEQUENCE:261150136
LOCATION:Arena Kreis Düren, Nippesstraße 4, 52349 Düren
GEO:50.79286830000000000000;6.48827330000000000000
SUMMARY:1. BL Mä.: SWD powervolleys Düren - VC Bitterfeld-Wolfen
CLASS:PUBLIC
DTSTART:20231227T180000Z
DTSTAMP:20230718T170800Z
END:VEVENT
BEGIN:VEVENT
UID:639584-2da69939ed67427dc6bf3daba21059e9
X-WR-RELCALID:639584-2da69939ed67427dc6bf3daba21059e9
ORGANIZER:Volleyball
SEQUENCE:261150136
LOCATION:Arena Kreis Düren, Nippesstraße 4, 52349 Düren
GEO:50.79286830000000000000;6.48827330000000000000
SUMMARY:1. BL Mä.: SWD powervolleys Düren - Energiequelle Netzhoppers 
 KW
CLASS:PUBLIC
DTSTART:20240121T163000Z
DTSTAMP:20230718T170800Z
END:VEVENT
BEGIN:VEVENT
UID:639592-2da69939ed67427dc6bf3daba21059e9
X-WR-RELCALID:639592-2da69939ed67427dc6bf3daba21059e9
ORGANIZER:Volleyball
SEQUENCE:261150136
LOCATION:Arena Kreis Düren, Nippesstraße 4, 52349 Düren
GEO:50.79286830000000000000;6.48827330000000000000
SUMMARY:1. BL Mä.: SWD powervolleys Düren - WWK Volleys Herrsching
CLASS:PUBLIC
DTSTART:20240202T190000Z
DTSTAMP:20230718T170800Z
END:VEVENT
BEGIN:VEVENT
UID:639606-2da69939ed67427dc6bf3daba21059e9
X-WR-RELCALID:639606-2da69939ed67427dc6bf3daba21059e9
ORGANIZER:Volleyball
SEQUENCE:261150136
LOCATION:Arena Kreis Düren, Nippesstraße 4, 52349 Düren
GEO:50.79286830000000000000;6.48827330000000000000
SUMMARY:1. BL Mä.: SWD powervolleys Düren - VfB Friedrichshafen
CLASS:PUBLIC
DTSTART:20240213T190000Z
DTSTAMP:20230718T170800Z
END:VEVENT
BEGIN:VEVENT
UID:639628-2da69939ed67427dc6bf3daba21059e9
X-WR-RELCALID:639628-2da69939ed67427dc6bf3daba21059e9
ORGANIZER:Volleyball
SEQUENCE:261150136
LOCATION:Arena Kreis Düren, Nippesstraße 4, 52349 Düren
GEO:50.79286830000000000000;6.48827330000000000000
SUMMARY:1. BL Mä.: SWD powervolleys Düren - BERLIN RECYCLING Volleys
CLASS:PUBLIC
DTSTART:20240309T180000Z
DTSTAMP:20230718T170800Z
END:VEVENT
END:VCALENDAR