BEGIN:VCALENDAR
VERSION:2.0
PRODID:VSD-Portal-www.volley.de
METHOD:PUBLISH
BEGIN:VEVENT
UID:638419-2da69939ed67427dc6bf3daba21059e9
X-WR-RELCALID:638419-2da69939ed67427dc6bf3daba21059e9
ORGANIZER:Volleyball
SEQUENCE:261142111
LOCATION:Sporthalle Brüderstraße, Brüderstraße 15, 04103 Leipzig
GEO:51.33326960000000000000;12.38091590000000000000
SUMMARY:2. BL S Mä.: L.E. Volleys - SV Schwaig
CLASS:PUBLIC
DTSTART:20230916T170000Z
DTSTAMP:20230706T190300Z
END:VEVENT
BEGIN:VEVENT
UID:638438-2da69939ed67427dc6bf3daba21059e9
X-WR-RELCALID:638438-2da69939ed67427dc6bf3daba21059e9
ORGANIZER:Volleyball
SEQUENCE:261142111
LOCATION:Sporthalle Brüderstraße, Brüderstraße 15, 04103 Leipzig
GEO:51.33326960000000000000;12.38091590000000000000
SUMMARY:2. BL S Mä.: L.E. Volleys - Volley YoungStars Friedrichshafen
CLASS:PUBLIC
DTSTART:20231014T170000Z
DTSTAMP:20230706T190300Z
END:VEVENT
BEGIN:VEVENT
UID:638442-2da69939ed67427dc6bf3daba21059e9
X-WR-RELCALID:638442-2da69939ed67427dc6bf3daba21059e9
ORGANIZER:Volleyball
SEQUENCE:261142111
LOCATION:Sporthalle Brüderstraße, Brüderstraße 15, 04103 Leipzig
GEO:51.33326960000000000000;12.38091590000000000000
SUMMARY:2. BL S Mä.: L.E. Volleys - TSV Mimmenhausen
CLASS:PUBLIC
DTSTART:20231015T130000Z
DTSTAMP:20230706T190300Z
END:VEVENT
BEGIN:VEVENT
UID:638455-2da69939ed67427dc6bf3daba21059e9
X-WR-RELCALID:638455-2da69939ed67427dc6bf3daba21059e9
ORGANIZER:Volleyball
SEQUENCE:261142111
LOCATION:Sporthalle Brüderstraße, Brüderstraße 15, 04103 Leipzig
GEO:51.33326960000000000000;12.38091590000000000000
SUMMARY:2. BL S Mä.: L.E. Volleys - TV Rottenburg
CLASS:PUBLIC
DTSTART:20231111T180000Z
DTSTAMP:20230706T190300Z
END:VEVENT
BEGIN:VEVENT
UID:638469-2da69939ed67427dc6bf3daba21059e9
X-WR-RELCALID:638469-2da69939ed67427dc6bf3daba21059e9
ORGANIZER:Volleyball
SEQUENCE:261142111
LOCATION:Sporthalle Brüderstraße, Brüderstraße 15, 04103 Leipzig
GEO:51.33326960000000000000;12.38091590000000000000
SUMMARY:2. BL S Mä.: L.E. Volleys - GSVE Delitzsch
CLASS:PUBLIC
DTSTART:20231125T180000Z
DTSTAMP:20230706T190300Z
END:VEVENT
BEGIN:VEVENT
UID:638482-2da69939ed67427dc6bf3daba21059e9
X-WR-RELCALID:638482-2da69939ed67427dc6bf3daba21059e9
ORGANIZER:Volleyball
SEQUENCE:261142111
LOCATION:Sporthalle Brüderstraße, Brüderstraße 15, 04103 Leipzig
GEO:51.33326960000000000000;12.38091590000000000000
SUMMARY:2. BL S Mä.: L.E. Volleys - TuS Kriftel
CLASS:PUBLIC
DTSTART:20231209T180000Z
DTSTAMP:20230706T190300Z
END:VEVENT
BEGIN:VEVENT
UID:638502-2da69939ed67427dc6bf3daba21059e9
X-WR-RELCALID:638502-2da69939ed67427dc6bf3daba21059e9
ORGANIZER:Volleyball
SEQUENCE:261142111
LOCATION:Sporthalle Brüderstraße, Brüderstraße 15, 04103 Leipzig
GEO:51.33326960000000000000;12.38091590000000000000
SUMMARY:2. BL S Mä.: L.E. Volleys - VC Eltmann
CLASS:PUBLIC
DTSTART:20240120T180000Z
DTSTAMP:20230706T190300Z
END:VEVENT
BEGIN:VEVENT
UID:638512-2da69939ed67427dc6bf3daba21059e9
X-WR-RELCALID:638512-2da69939ed67427dc6bf3daba21059e9
ORGANIZER:Volleyball
SEQUENCE:261142111
LOCATION:Sporthalle Brüderstraße, Brüderstraße 15, 04103 Leipzig
GEO:51.33326960000000000000;12.38091590000000000000
SUMMARY:2. BL S Mä.: L.E. Volleys - TV Bühl
CLASS:PUBLIC
DTSTART:20240128T140000Z
DTSTAMP:20230706T190300Z
END:VEVENT
BEGIN:VEVENT
UID:638523-2da69939ed67427dc6bf3daba21059e9
X-WR-RELCALID:638523-2da69939ed67427dc6bf3daba21059e9
ORGANIZER:Volleyball
SEQUENCE:261142111
LOCATION:Sporthalle Brüderstraße, Brüderstraße 15, 04103 Leipzig
GEO:51.33326960000000000000;12.38091590000000000000
SUMMARY:2. BL S Mä.: L.E. Volleys - RAMFIRE Volleys Dresden
CLASS:PUBLIC
DTSTART:20240210T180000Z
DTSTAMP:20230706T190300Z
END:VEVENT
BEGIN:VEVENT
UID:638540-2da69939ed67427dc6bf3daba21059e9
X-WR-RELCALID:638540-2da69939ed67427dc6bf3daba21059e9
ORGANIZER:Volleyball
SEQUENCE:261142111
LOCATION:Sporthalle Brüderstraße, Brüderstraße 15, 04103 Leipzig
GEO:51.33326960000000000000;12.38091590000000000000
SUMMARY:2. BL S Mä.: L.E. Volleys - TSV Grafing
CLASS:PUBLIC
DTSTART:20240316T190000Z
DTSTAMP:20240206T153000Z
END:VEVENT
BEGIN:VEVENT
UID:638553-2da69939ed67427dc6bf3daba21059e9
X-WR-RELCALID:638553-2da69939ed67427dc6bf3daba21059e9
ORGANIZER:Volleyball
SEQUENCE:261142111
LOCATION:Sporthalle Brüderstraße, Brüderstraße 15, 04103 Leipzig
GEO:51.33326960000000000000;12.38091590000000000000
SUMMARY:2. BL S Mä.: L.E. Volleys - Barock Volleys MTV Ludwigsburg
CLASS:PUBLIC
DTSTART:20240413T170000Z
DTSTAMP:20230706T190300Z
END:VEVENT
BEGIN:VEVENT
UID:638567-2da69939ed67427dc6bf3daba21059e9
X-WR-RELCALID:638567-2da69939ed67427dc6bf3daba21059e9
ORGANIZER:Volleyball
SEQUENCE:261142111
LOCATION:Sporthalle Brüderstraße, Brüderstraße 15, 04103 Leipzig
GEO:51.33326960000000000000;12.38091590000000000000
SUMMARY:2. BL S Mä.: L.E. Volleys - Blue Volleys Gotha
CLASS:PUBLIC
DTSTART:20240427T170000Z
DTSTAMP:20230706T190300Z
END:VEVENT
END:VCALENDAR