BEGIN:VCALENDAR
VERSION:2.0
PRODID:VSD-Portal-www.volley.de
METHOD:PUBLISH
BEGIN:VEVENT
UID:637012-2da69939ed67427dc6bf3daba21059e9
X-WR-RELCALID:637012-2da69939ed67427dc6bf3daba21059e9
ORGANIZER:Volleyball
SEQUENCE:261101548
LOCATION:Friedrich-Ebert-Realschule, Krankenhausstr. 91, 50354 Hürth
GEO:50.88735000000000000000;6.88891000000000000000
SUMMARY:3. L W Mä.: TVA Hürth Volleyball - DJK Delbrück
CLASS:PUBLIC
DTSTART:20230923T170000Z
DTSTAMP:20230706T185800Z
END:VEVENT
BEGIN:VEVENT
UID:637020-2da69939ed67427dc6bf3daba21059e9
X-WR-RELCALID:637020-2da69939ed67427dc6bf3daba21059e9
ORGANIZER:Volleyball
SEQUENCE:261101548
LOCATION:Friedrich-Ebert-Realschule, Krankenhausstr. 91, 50354 Hürth
GEO:50.88735000000000000000;6.88891000000000000000
SUMMARY:3. L W Mä.: TVA Hürth Volleyball - USC Braunschweig
CLASS:PUBLIC
DTSTART:20231007T170000Z
DTSTAMP:20230706T185800Z
END:VEVENT
BEGIN:VEVENT
UID:637030-2da69939ed67427dc6bf3daba21059e9
X-WR-RELCALID:637030-2da69939ed67427dc6bf3daba21059e9
ORGANIZER:Volleyball
SEQUENCE:261101548
LOCATION:Friedrich-Ebert-Realschule, Krankenhausstr. 91, 50354 Hürth
GEO:50.88735000000000000000;6.88891000000000000000
SUMMARY:3. L W Mä.: TVA Hürth Volleyball - Turn-Klubb zu Hannover
CLASS:PUBLIC
DTSTART:20231015T110000Z
DTSTAMP:20230706T185800Z
END:VEVENT
BEGIN:VEVENT
UID:637036-2da69939ed67427dc6bf3daba21059e9
X-WR-RELCALID:637036-2da69939ed67427dc6bf3daba21059e9
ORGANIZER:Volleyball
SEQUENCE:261101548
LOCATION:Friedrich-Ebert-Realschule, Krankenhausstr. 91, 50354 Hürth
GEO:50.88735000000000000000;6.88891000000000000000
SUMMARY:3. L W Mä.: TVA Hürth Volleyball - SF Aligse
CLASS:PUBLIC
DTSTART:20231028T140000Z
DTSTAMP:20230706T185800Z
END:VEVENT
BEGIN:VEVENT
UID:637049-2da69939ed67427dc6bf3daba21059e9
X-WR-RELCALID:637049-2da69939ed67427dc6bf3daba21059e9
ORGANIZER:Volleyball
SEQUENCE:261101548
LOCATION:Friedrich-Ebert-Realschule, Krankenhausstr. 91, 50354 Hürth
GEO:50.88735000000000000000;6.88891000000000000000
SUMMARY:3. L W Mä.: TVA Hürth Volleyball - Oldenburger TB
CLASS:PUBLIC
DTSTART:20231118T150000Z
DTSTAMP:20230706T185800Z
END:VEVENT
BEGIN:VEVENT
UID:637063-2da69939ed67427dc6bf3daba21059e9
X-WR-RELCALID:637063-2da69939ed67427dc6bf3daba21059e9
ORGANIZER:Volleyball
SEQUENCE:261101548
LOCATION:Friedrich-Ebert-Realschule, Krankenhausstr. 91, 50354 Hürth
GEO:50.88735000000000000000;6.88891000000000000000
SUMMARY:3. L W Mä.: TVA Hürth Volleyball - PTSV Aachen
CLASS:PUBLIC
DTSTART:20231209T150000Z
DTSTAMP:20230706T185800Z
END:VEVENT
BEGIN:VEVENT
UID:637071-2da69939ed67427dc6bf3daba21059e9
X-WR-RELCALID:637071-2da69939ed67427dc6bf3daba21059e9
ORGANIZER:Volleyball
SEQUENCE:261101548
LOCATION:Friedrich-Ebert-Realschule, Krankenhausstr. 91, 50354 Hürth
GEO:50.88735000000000000000;6.88891000000000000000
SUMMARY:3. L W Mä.: TVA Hürth Volleyball - TV Hörde
CLASS:PUBLIC
DTSTART:20231216T180000Z
DTSTAMP:20230706T185800Z
END:VEVENT
BEGIN:VEVENT
UID:637080-2da69939ed67427dc6bf3daba21059e9
X-WR-RELCALID:637080-2da69939ed67427dc6bf3daba21059e9
ORGANIZER:Volleyball
SEQUENCE:261101548
LOCATION:Friedrich-Ebert-Realschule, Krankenhausstr. 91, 50354 Hürth
GEO:50.88735000000000000000;6.88891000000000000000
SUMMARY:3. L W Mä.: TVA Hürth Volleyball - VV Humann Essen II
CLASS:PUBLIC
DTSTART:20240125T190000Z
DTSTAMP:20231213T114500Z
END:VEVENT
BEGIN:VEVENT
UID:637098-2da69939ed67427dc6bf3daba21059e9
X-WR-RELCALID:637098-2da69939ed67427dc6bf3daba21059e9
ORGANIZER:Volleyball
SEQUENCE:261101548
LOCATION:Friedrich-Ebert-Realschule, Krankenhausstr. 91, 50354 Hürth
GEO:50.88735000000000000000;6.88891000000000000000
SUMMARY:3. L W Mä.: TVA Hürth Volleyball - Tecklenburger Land Volleys
CLASS:PUBLIC
DTSTART:20240203T180000Z
DTSTAMP:20230706T185800Z
END:VEVENT
BEGIN:VEVENT
UID:637113-2da69939ed67427dc6bf3daba21059e9
X-WR-RELCALID:637113-2da69939ed67427dc6bf3daba21059e9
ORGANIZER:Volleyball
SEQUENCE:261101548
LOCATION:Friedrich-Ebert-Realschule, Krankenhausstr. 91, 50354 Hürth
GEO:50.88735000000000000000;6.88891000000000000000
SUMMARY:3. L W Mä.: TVA Hürth Volleyball - Brühler TV
CLASS:PUBLIC
DTSTART:20240218T150000Z
DTSTAMP:20230706T185800Z
END:VEVENT
BEGIN:VEVENT
UID:637123-2da69939ed67427dc6bf3daba21059e9
X-WR-RELCALID:637123-2da69939ed67427dc6bf3daba21059e9
ORGANIZER:Volleyball
SEQUENCE:261101548
LOCATION:Friedrich-Ebert-Realschule, Krankenhausstr. 91, 50354 Hürth
GEO:50.88735000000000000000;6.88891000000000000000
SUMMARY:3. L W Mä.: TVA Hürth Volleyball - FCJ Köln
CLASS:PUBLIC
DTSTART:20240316T150000Z
DTSTAMP:20230706T185800Z
END:VEVENT
END:VCALENDAR