BEGIN:VCALENDAR
VERSION:2.0
PRODID:VSD-Portal-www.volley.de
METHOD:PUBLISH
BEGIN:VEVENT
UID:636636-2da69939ed67427dc6bf3daba21059e9
X-WR-RELCALID:636636-2da69939ed67427dc6bf3daba21059e9
ORGANIZER:Volleyball
SEQUENCE:261101619
LOCATION:SH Dillinger Str.,  Lebach, Dillinger Str. 65a, 66822 Lebach
GEO:49.40658000000000000000;6.90152000000000000000
SUMMARY:RL SW AufR Fr.: TV Lebach - TSVgg Stadecken-Elsheim
CLASS:PUBLIC
DTSTART:20230101T190000Z
DTSTAMP:20230111T081200Z
END:VEVENT
BEGIN:VEVENT
UID:636637-2da69939ed67427dc6bf3daba21059e9
X-WR-RELCALID:636637-2da69939ed67427dc6bf3daba21059e9
ORGANIZER:Volleyball
SEQUENCE:261101619
LOCATION:SH Dillinger Str.,  Lebach, Dillinger Str. 65a, 66822 Lebach
GEO:49.40658000000000000000;6.90152000000000000000
SUMMARY:RL SW AufR Fr.: TV Lebach - TSV RW Auerbach
CLASS:PUBLIC
DTSTART:20230101T190000Z
DTSTAMP:20230111T081200Z
END:VEVENT
BEGIN:VEVENT
UID:636638-2da69939ed67427dc6bf3daba21059e9
X-WR-RELCALID:636638-2da69939ed67427dc6bf3daba21059e9
ORGANIZER:Volleyball
SEQUENCE:261101619
LOCATION:Neue Gymnasiumhalle Nieder-Olm, Karl-Sieben-Str. 39, 55268 Ni
 eder-Olm
GEO:49.90181000000000000000;8.19567000000000000000
SUMMARY:RL SW AufR Fr.: TSVgg Stadecken-Elsheim - TV Lebach
CLASS:PUBLIC
DTSTART:20230101T190000Z
DTSTAMP:20230111T081200Z
END:VEVENT
BEGIN:VEVENT
UID:636640-2da69939ed67427dc6bf3daba21059e9
X-WR-RELCALID:636640-2da69939ed67427dc6bf3daba21059e9
ORGANIZER:Volleyball
SEQUENCE:261101619
LOCATION:Geschwister-Scholl-Schule, Eifelstr. 39-43, 64625 Bensheim
GEO:49.68540000000000000000;8.60809000000000000000
SUMMARY:RL SW AufR Fr.: TSV RW Auerbach - TV Lebach
CLASS:PUBLIC
DTSTART:20230101T190000Z
DTSTAMP:20230111T081200Z
END:VEVENT
BEGIN:VEVENT
UID:636639-2da69939ed67427dc6bf3daba21059e9
X-WR-RELCALID:636639-2da69939ed67427dc6bf3daba21059e9
ORGANIZER:Volleyball
SEQUENCE:261101619
LOCATION:Neue Gymnasiumhalle Nieder-Olm, Karl-Sieben-Str. 39, 55268 Ni
 eder-Olm
GEO:49.90181000000000000000;8.19567000000000000000
SUMMARY:RL SW AufR Fr.: TSVgg Stadecken-Elsheim - TSV RW Auerbach
CLASS:PUBLIC
DTSTART:20230101T190000Z
DTSTAMP:20230111T081200Z
END:VEVENT
BEGIN:VEVENT
UID:636641-2da69939ed67427dc6bf3daba21059e9
X-WR-RELCALID:636641-2da69939ed67427dc6bf3daba21059e9
ORGANIZER:Volleyball
SEQUENCE:261101619
LOCATION:Geschwister-Scholl-Schule, Eifelstr. 39-43, 64625 Bensheim
GEO:49.68540000000000000000;8.60809000000000000000
SUMMARY:RL SW AufR Fr.: TSV RW Auerbach - TSVgg Stadecken-Elsheim
CLASS:PUBLIC
DTSTART:20230101T190000Z
DTSTAMP:20230111T081200Z
END:VEVENT
BEGIN:VEVENT
UID:636642-2da69939ed67427dc6bf3daba21059e9
X-WR-RELCALID:636642-2da69939ed67427dc6bf3daba21059e9
ORGANIZER:Volleyball
SEQUENCE:261101619
LOCATION:SH Geschwister-Scholl-RS, Andernach, Salentinstr. 12, 56626 A
 ndernach
GEO:50.43218070000000000000;7.40361300000000000000
SUMMARY:RL SW AufR Fr.: SG Mittelrheinvolleys - TSG Bretzenheim
CLASS:PUBLIC
DTSTART:20230102T190000Z
DTSTAMP:20230111T081200Z
END:VEVENT
BEGIN:VEVENT
UID:636643-2da69939ed67427dc6bf3daba21059e9
X-WR-RELCALID:636643-2da69939ed67427dc6bf3daba21059e9
ORGANIZER:Volleyball
SEQUENCE:261101619
LOCATION:SH Geschwister-Scholl-RS, Andernach, Salentinstr. 12, 56626 A
 ndernach
GEO:50.43218070000000000000;7.40361300000000000000
SUMMARY:RL SW AufR Fr.: SG Mittelrheinvolleys - Eintracht Frankfurt
CLASS:PUBLIC
DTSTART:20230102T190000Z
DTSTAMP:20230111T081200Z
END:VEVENT
BEGIN:VEVENT
UID:636644-2da69939ed67427dc6bf3daba21059e9
X-WR-RELCALID:636644-2da69939ed67427dc6bf3daba21059e9
ORGANIZER:Volleyball
SEQUENCE:261101619
LOCATION:NSH IGS Mainz-Bretzenheim, Hans-Böckler-Str. 2, 55128 Mainz
GEO:49.97727000000000000000;8.24746000000000000000
SUMMARY:RL SW AufR Fr.: TSG Bretzenheim - SG Mittelrheinvolleys
CLASS:PUBLIC
DTSTART:20230102T190000Z
DTSTAMP:20230111T081200Z
END:VEVENT
BEGIN:VEVENT
UID:636646-2da69939ed67427dc6bf3daba21059e9
X-WR-RELCALID:636646-2da69939ed67427dc6bf3daba21059e9
ORGANIZER:Volleyball
SEQUENCE:261101619
LOCATION:Wolfgang-Steubing-Halle, Gustav-Behringer-Straße 10, 60386 Fr
 ankfurt am Main
GEO:50.13290450000000000000;8.72953650000000000000
SUMMARY:RL SW AufR Fr.: Eintracht Frankfurt - SG Mittelrheinvolleys
CLASS:PUBLIC
DTSTART:20230102T190000Z
DTSTAMP:20230111T081200Z
END:VEVENT
BEGIN:VEVENT
UID:636645-2da69939ed67427dc6bf3daba21059e9
X-WR-RELCALID:636645-2da69939ed67427dc6bf3daba21059e9
ORGANIZER:Volleyball
SEQUENCE:261101619
LOCATION:NSH IGS Mainz-Bretzenheim, Hans-Böckler-Str. 2, 55128 Mainz
GEO:49.97727000000000000000;8.24746000000000000000
SUMMARY:RL SW AufR Fr.: TSG Bretzenheim - Eintracht Frankfurt
CLASS:PUBLIC
DTSTART:20230102T190000Z
DTSTAMP:20230111T081200Z
END:VEVENT
BEGIN:VEVENT
UID:636647-2da69939ed67427dc6bf3daba21059e9
X-WR-RELCALID:636647-2da69939ed67427dc6bf3daba21059e9
ORGANIZER:Volleyball
SEQUENCE:261101619
LOCATION:Wolfgang-Steubing-Halle, Gustav-Behringer-Straße 10, 60386 Fr
 ankfurt am Main
GEO:50.13290450000000000000;8.72953650000000000000
SUMMARY:RL SW AufR Fr.: Eintracht Frankfurt - TSG Bretzenheim
CLASS:PUBLIC
DTSTART:20230102T190000Z
DTSTAMP:20230111T081200Z
END:VEVENT
BEGIN:VEVENT
UID:636648-2da69939ed67427dc6bf3daba21059e9
X-WR-RELCALID:636648-2da69939ed67427dc6bf3daba21059e9
ORGANIZER:Volleyball
SEQUENCE:261101619
LOCATION:SH Dillinger Str.,  Lebach, Dillinger Str. 65a, 66822 Lebach
GEO:49.40658000000000000000;6.90152000000000000000
SUMMARY:RL SW AufR Fr.: TV Lebach - Eintracht Frankfurt
CLASS:PUBLIC
DTSTART:20230114T183000Z
DTSTAMP:20230111T081200Z
END:VEVENT
BEGIN:VEVENT
UID:636649-2da69939ed67427dc6bf3daba21059e9
X-WR-RELCALID:636649-2da69939ed67427dc6bf3daba21059e9
ORGANIZER:Volleyball
SEQUENCE:261101619
LOCATION:Geschwister-Scholl-Schule, Eifelstr. 39-43, 64625 Bensheim
GEO:49.68540000000000000000;8.60809000000000000000
SUMMARY:RL SW AufR Fr.: TSV RW Auerbach - SG Mittelrheinvolleys
CLASS:PUBLIC
DTSTART:20230114T190000Z
DTSTAMP:20230111T081200Z
END:VEVENT
BEGIN:VEVENT
UID:636650-2da69939ed67427dc6bf3daba21059e9
X-WR-RELCALID:636650-2da69939ed67427dc6bf3daba21059e9
ORGANIZER:Volleyball
SEQUENCE:261101619
LOCATION:Neue Gymnasiumhalle Nieder-Olm, Karl-Sieben-Str. 39, 55268 Ni
 eder-Olm
GEO:49.90181000000000000000;8.19567000000000000000
SUMMARY:RL SW AufR Fr.: TSVgg Stadecken-Elsheim - TSG Bretzenheim
CLASS:PUBLIC
DTSTART:20230115T150000Z
DTSTAMP:20230111T081200Z
END:VEVENT
BEGIN:VEVENT
UID:636651-2da69939ed67427dc6bf3daba21059e9
X-WR-RELCALID:636651-2da69939ed67427dc6bf3daba21059e9
ORGANIZER:Volleyball
SEQUENCE:261101619
LOCATION:SSH Ludwig-Erhard, Neuwied, Beverwijker Ring 3, 56564 Neuwied
 
GEO:50.43856000000000000000;7.46945000000000000000
SUMMARY:RL SW AufR Fr.: SG Mittelrheinvolleys - TSVgg Stadecken-Elshei
 m
CLASS:PUBLIC
DTSTART:20230121T150000Z
DTSTAMP:20230111T081200Z
END:VEVENT
BEGIN:VEVENT
UID:636652-2da69939ed67427dc6bf3daba21059e9
X-WR-RELCALID:636652-2da69939ed67427dc6bf3daba21059e9
ORGANIZER:Volleyball
SEQUENCE:261101619
LOCATION:NSH IGS Mainz-Bretzenheim, Hans-Böckler-Str. 2, 55128 Mainz
GEO:49.97727000000000000000;8.24746000000000000000
SUMMARY:RL SW AufR Fr.: TSG Bretzenheim - TV Lebach
CLASS:PUBLIC
DTSTART:20230121T180000Z
DTSTAMP:20230111T081200Z
END:VEVENT
BEGIN:VEVENT
UID:636653-2da69939ed67427dc6bf3daba21059e9
X-WR-RELCALID:636653-2da69939ed67427dc6bf3daba21059e9
ORGANIZER:Volleyball
SEQUENCE:261101619
LOCATION:Wolfgang-Steubing-Halle, Gustav-Behringer-Straße 10, 60386 Fr
 ankfurt am Main
GEO:50.13290450000000000000;8.72953650000000000000
SUMMARY:RL SW AufR Fr.: Eintracht Frankfurt - TSV RW Auerbach
CLASS:PUBLIC
DTSTART:20230121T190000Z
DTSTAMP:20230111T081200Z
END:VEVENT
BEGIN:VEVENT
UID:636654-2da69939ed67427dc6bf3daba21059e9
X-WR-RELCALID:636654-2da69939ed67427dc6bf3daba21059e9
ORGANIZER:Volleyball
SEQUENCE:261101619
LOCATION:Geschwister-Scholl-Schule, Eifelstr. 39-43, 64625 Bensheim
GEO:49.68540000000000000000;8.60809000000000000000
SUMMARY:RL SW AufR Fr.: TSV RW Auerbach - TSG Bretzenheim
CLASS:PUBLIC
DTSTART:20230128T190000Z
DTSTAMP:20230111T081200Z
END:VEVENT
BEGIN:VEVENT
UID:636655-2da69939ed67427dc6bf3daba21059e9
X-WR-RELCALID:636655-2da69939ed67427dc6bf3daba21059e9
ORGANIZER:Volleyball
SEQUENCE:261101619
LOCATION:SH Dillinger Str.,  Lebach, Dillinger Str. 65a, 66822 Lebach
GEO:49.40658000000000000000;6.90152000000000000000
SUMMARY:RL SW AufR Fr.: TV Lebach - SG Mittelrheinvolleys
CLASS:PUBLIC
DTSTART:20230129T150000Z
DTSTAMP:20230111T081200Z
END:VEVENT
BEGIN:VEVENT
UID:636656-2da69939ed67427dc6bf3daba21059e9
X-WR-RELCALID:636656-2da69939ed67427dc6bf3daba21059e9
ORGANIZER:Volleyball
SEQUENCE:261101619
LOCATION:Neue Gymnasiumhalle Nieder-Olm, Karl-Sieben-Str. 39, 55268 Ni
 eder-Olm
GEO:49.90181000000000000000;8.19567000000000000000
SUMMARY:RL SW AufR Fr.: TSVgg Stadecken-Elsheim - Eintracht Frankfurt
CLASS:PUBLIC
DTSTART:20230129T150000Z
DTSTAMP:20230111T081200Z
END:VEVENT
BEGIN:VEVENT
UID:636657-2da69939ed67427dc6bf3daba21059e9
X-WR-RELCALID:636657-2da69939ed67427dc6bf3daba21059e9
ORGANIZER:Volleyball
SEQUENCE:261101619
LOCATION:SH Geschwister-Scholl-RS, Andernach, Salentinstr. 12, 56626 A
 ndernach
GEO:50.43218070000000000000;7.40361300000000000000
SUMMARY:RL SW AufR Fr.: SG Mittelrheinvolleys - TSV RW Auerbach
CLASS:PUBLIC
DTSTART:20230212T150000Z
DTSTAMP:20230111T081200Z
END:VEVENT
BEGIN:VEVENT
UID:636658-2da69939ed67427dc6bf3daba21059e9
X-WR-RELCALID:636658-2da69939ed67427dc6bf3daba21059e9
ORGANIZER:Volleyball
SEQUENCE:261101619
LOCATION:NSH IGS Mainz-Bretzenheim, Hans-Böckler-Str. 2, 55128 Mainz
GEO:49.97727000000000000000;8.24746000000000000000
SUMMARY:RL SW AufR Fr.: TSG Bretzenheim - TSVgg Stadecken-Elsheim
CLASS:PUBLIC
DTSTART:20230212T150000Z
DTSTAMP:20230111T081200Z
END:VEVENT
BEGIN:VEVENT
UID:636659-2da69939ed67427dc6bf3daba21059e9
X-WR-RELCALID:636659-2da69939ed67427dc6bf3daba21059e9
ORGANIZER:Volleyball
SEQUENCE:261101619
LOCATION:Wolfgang-Steubing-Halle, Gustav-Behringer-Straße 10, 60386 Fr
 ankfurt am Main
GEO:50.13290450000000000000;8.72953650000000000000
SUMMARY:RL SW AufR Fr.: Eintracht Frankfurt - TV Lebach
CLASS:PUBLIC
DTSTART:20230212T150000Z
DTSTAMP:20230111T081200Z
END:VEVENT
BEGIN:VEVENT
UID:636660-2da69939ed67427dc6bf3daba21059e9
X-WR-RELCALID:636660-2da69939ed67427dc6bf3daba21059e9
ORGANIZER:Volleyball
SEQUENCE:261101619
LOCATION:SH Dillinger Str.,  Lebach, Dillinger Str. 65a, 66822 Lebach
GEO:49.40658000000000000000;6.90152000000000000000
SUMMARY:RL SW AufR Fr.: TV Lebach - TSG Bretzenheim
CLASS:PUBLIC
DTSTART:20230304T183000Z
DTSTAMP:20230111T081200Z
END:VEVENT
BEGIN:VEVENT
UID:636661-2da69939ed67427dc6bf3daba21059e9
X-WR-RELCALID:636661-2da69939ed67427dc6bf3daba21059e9
ORGANIZER:Volleyball
SEQUENCE:261101619
LOCATION:Geschwister-Scholl-Schule, Eifelstr. 39-43, 64625 Bensheim
GEO:49.68540000000000000000;8.60809000000000000000
SUMMARY:RL SW AufR Fr.: TSV RW Auerbach - Eintracht Frankfurt
CLASS:PUBLIC
DTSTART:20230304T190000Z
DTSTAMP:20230111T081200Z
END:VEVENT
BEGIN:VEVENT
UID:636662-2da69939ed67427dc6bf3daba21059e9
X-WR-RELCALID:636662-2da69939ed67427dc6bf3daba21059e9
ORGANIZER:Volleyball
SEQUENCE:261101619
LOCATION:Neue Gymnasiumhalle Nieder-Olm, Karl-Sieben-Str. 39, 55268 Ni
 eder-Olm
GEO:49.90181000000000000000;8.19567000000000000000
SUMMARY:RL SW AufR Fr.: TSVgg Stadecken-Elsheim - SG Mittelrheinvolley
 s
CLASS:PUBLIC
DTSTART:20230305T150000Z
DTSTAMP:20230111T081200Z
END:VEVENT
BEGIN:VEVENT
UID:636663-2da69939ed67427dc6bf3daba21059e9
X-WR-RELCALID:636663-2da69939ed67427dc6bf3daba21059e9
ORGANIZER:Volleyball
SEQUENCE:261101619
LOCATION:SH Geschwister-Scholl-RS, Andernach, Salentinstr. 12, 56626 A
 ndernach
GEO:50.43218070000000000000;7.40361300000000000000
SUMMARY:RL SW AufR Fr.: SG Mittelrheinvolleys - TV Lebach
CLASS:PUBLIC
DTSTART:20230319T150000Z
DTSTAMP:20230111T081200Z
END:VEVENT
BEGIN:VEVENT
UID:636664-2da69939ed67427dc6bf3daba21059e9
X-WR-RELCALID:636664-2da69939ed67427dc6bf3daba21059e9
ORGANIZER:Volleyball
SEQUENCE:261101619
LOCATION:NSH IGS Mainz-Bretzenheim, Hans-Böckler-Str. 2, 55128 Mainz
GEO:49.97727000000000000000;8.24746000000000000000
SUMMARY:RL SW AufR Fr.: TSG Bretzenheim - TSV RW Auerbach
CLASS:PUBLIC
DTSTART:20230319T150000Z
DTSTAMP:20230111T081200Z
END:VEVENT
BEGIN:VEVENT
UID:636665-2da69939ed67427dc6bf3daba21059e9
X-WR-RELCALID:636665-2da69939ed67427dc6bf3daba21059e9
ORGANIZER:Volleyball
SEQUENCE:261101619
LOCATION:Wolfgang-Steubing-Halle, Gustav-Behringer-Straße 10, 60386 Fr
 ankfurt am Main
GEO:50.13290450000000000000;8.72953650000000000000
SUMMARY:RL SW AufR Fr.: Eintracht Frankfurt - TSVgg Stadecken-Elsheim
CLASS:PUBLIC
DTSTART:20230319T150000Z
DTSTAMP:20230111T081200Z
END:VEVENT
END:VCALENDAR