BEGIN:VCALENDAR
VERSION:2.0
PRODID:VSD-Portal-www.volley.de
METHOD:PUBLISH
BEGIN:VEVENT
UID:174183-0b1cb5f82de24c98f11e829bddb1f0f9
X-WR-RELCALID:174183-0b1cb5f82de24c98f11e829bddb1f0f9
ORGANIZER:Volleyball
SEQUENCE:261122241
LOCATION:Halle am Seeweiher, An der Hagenau, 91781 Weißenburg
GEO:49.02640500000000000000;10.97573400000000000000
SUMMARY:LLNW Fr.: TSV 1860 Weißenburg - BTS Bayreuth
CLASS:PUBLIC
DTSTART:20171021T120000Z
DTSTAMP:20171024T161600Z
END:VEVENT
BEGIN:VEVENT
UID:174184-0b1cb5f82de24c98f11e829bddb1f0f9
X-WR-RELCALID:174184-0b1cb5f82de24c98f11e829bddb1f0f9
ORGANIZER:Volleyball
SEQUENCE:261122241
LOCATION:Halle am Seeweiher, An der Hagenau, 91781 Weißenburg
GEO:49.02640500000000000000;10.97573400000000000000
SUMMARY:LLNW Fr.: TSV 1860 Weißenburg - FC Dombühl
CLASS:PUBLIC
DTSTART:20171021T120000Z
DTSTAMP:20171024T161800Z
END:VEVENT
BEGIN:VEVENT
UID:174197-0b1cb5f82de24c98f11e829bddb1f0f9
X-WR-RELCALID:174197-0b1cb5f82de24c98f11e829bddb1f0f9
ORGANIZER:Volleyball
SEQUENCE:261122241
LOCATION:Halle am Seeweiher, An der Hagenau, 91781 Weißenburg
GEO:49.02640500000000000000;10.97573400000000000000
SUMMARY:LLNW Fr.: TSV 1860 Weißenburg - TSV Röttingen
CLASS:PUBLIC
DTSTART:20171118T130000Z
DTSTAMP:20171121T162200Z
END:VEVENT
BEGIN:VEVENT
UID:174198-0b1cb5f82de24c98f11e829bddb1f0f9
X-WR-RELCALID:174198-0b1cb5f82de24c98f11e829bddb1f0f9
ORGANIZER:Volleyball
SEQUENCE:261122241
LOCATION:Halle am Seeweiher, An der Hagenau, 91781 Weißenburg
GEO:49.02640500000000000000;10.97573400000000000000
SUMMARY:LLNW Fr.: TSV 1860 Weißenburg - ASV Veitsbronn
CLASS:PUBLIC
DTSTART:20171118T130000Z
DTSTAMP:20171121T162800Z
END:VEVENT
BEGIN:VEVENT
UID:174225-0b1cb5f82de24c98f11e829bddb1f0f9
X-WR-RELCALID:174225-0b1cb5f82de24c98f11e829bddb1f0f9
ORGANIZER:Volleyball
SEQUENCE:261122241
LOCATION:Halle am Seeweiher, An der Hagenau, 91781 Weißenburg
GEO:49.02640500000000000000;10.97573400000000000000
SUMMARY:LLNW Fr.: TSV 1860 Weißenburg - TSV Feucht
CLASS:PUBLIC
DTSTART:20180203T130000Z
DTSTAMP:20180210T125700Z
END:VEVENT
BEGIN:VEVENT
UID:174226-0b1cb5f82de24c98f11e829bddb1f0f9
X-WR-RELCALID:174226-0b1cb5f82de24c98f11e829bddb1f0f9
ORGANIZER:Volleyball
SEQUENCE:261122241
LOCATION:Halle am Seeweiher, An der Hagenau, 91781 Weißenburg
GEO:49.02640500000000000000;10.97573400000000000000
SUMMARY:LLNW Fr.: TSV 1860 Weißenburg - SV Schwaig
CLASS:PUBLIC
DTSTART:20180203T130000Z
DTSTAMP:20180210T125900Z
END:VEVENT
BEGIN:VEVENT
UID:174247-0b1cb5f82de24c98f11e829bddb1f0f9
X-WR-RELCALID:174247-0b1cb5f82de24c98f11e829bddb1f0f9
ORGANIZER:Volleyball
SEQUENCE:261122241
LOCATION:Halle am Seeweiher, An der Hagenau, 91781 Weißenburg
GEO:49.02640500000000000000;10.97573400000000000000
SUMMARY:LLNW Fr.: TSV 1860 Weißenburg - SG/DJK Rimpar
CLASS:PUBLIC
DTSTART:20180317T130000Z
DTSTAMP:20180321T092500Z
END:VEVENT
BEGIN:VEVENT
UID:174248-0b1cb5f82de24c98f11e829bddb1f0f9
X-WR-RELCALID:174248-0b1cb5f82de24c98f11e829bddb1f0f9
ORGANIZER:Volleyball
SEQUENCE:261122241
LOCATION:Halle am Seeweiher, An der Hagenau, 91781 Weißenburg
GEO:49.02640500000000000000;10.97573400000000000000
SUMMARY:LLNW Fr.: TSV 1860 Weißenburg - TSV Lengfeld
CLASS:PUBLIC
DTSTART:20180317T130000Z
DTSTAMP:20180321T092700Z
END:VEVENT
END:VCALENDAR