BEGIN:VCALENDAR
VERSION:2.0
PRODID:VSD-Portal-www.volley.de
METHOD:PUBLISH
BEGIN:VEVENT
UID:623895-2da69939ed67427dc6bf3daba21059e9
X-WR-RELCALID:623895-2da69939ed67427dc6bf3daba21059e9
ORGANIZER:Volleyball
SEQUENCE:261101920
LOCATION:Sporthalle der Mosaikschule, Diekmannstr. 131, 48161 Münster
GEO:51.96556060000000000000;7.56774020000000000000
SUMMARY:KL Mü Mi.: TSC Gievenbeck VI - TSC Gievenbeck VII
CLASS:PUBLIC
DTSTART:20220918T123000Z
DTSTAMP:20220910T112500Z
END:VEVENT
BEGIN:VEVENT
UID:623898-2da69939ed67427dc6bf3daba21059e9
X-WR-RELCALID:623898-2da69939ed67427dc6bf3daba21059e9
ORGANIZER:Volleyball
SEQUENCE:261101920
LOCATION:Sporthalle der Mosaikschule, Diekmannstr. 131, 48161 Münster
GEO:51.96556060000000000000;7.56774020000000000000
SUMMARY:KL Mü Mi.: SV Blau-Weiß Aasee VII - TSC Gievenbeck VI
CLASS:PUBLIC
DTSTART:20221029T110000Z
DTSTAMP:20220910T112500Z
END:VEVENT
BEGIN:VEVENT
UID:623899-2da69939ed67427dc6bf3daba21059e9
X-WR-RELCALID:623899-2da69939ed67427dc6bf3daba21059e9
ORGANIZER:Volleyball
SEQUENCE:261101920
LOCATION:St.-Christophorus-Schule, Engeldamm 6, 48291 Telgte
GEO:52.02445000000000000000;7.78059000000000000000
SUMMARY:KL Mü Mi.: SV Ems Westbevern III - TSC Gievenbeck VI
CLASS:PUBLIC
DTSTART:20221112T160000Z
DTSTAMP:20230202T111500Z
END:VEVENT
BEGIN:VEVENT
UID:623896-2da69939ed67427dc6bf3daba21059e9
X-WR-RELCALID:623896-2da69939ed67427dc6bf3daba21059e9
ORGANIZER:Volleyball
SEQUENCE:261101920
LOCATION:St.-Christophorus-Schule, Engeldamm 6, 48291 Telgte
GEO:52.02445000000000000000;7.78059000000000000000
SUMMARY:KL Mü Mi.: SG Westbevern/Ostbevern - TSC Gievenbeck VI
CLASS:PUBLIC
DTSTART:20221124T160000Z
DTSTAMP:20230202T111500Z
END:VEVENT
BEGIN:VEVENT
UID:623901-2da69939ed67427dc6bf3daba21059e9
X-WR-RELCALID:623901-2da69939ed67427dc6bf3daba21059e9
ORGANIZER:Volleyball
SEQUENCE:261101920
LOCATION:Michaelschule, Appelbreistiege 40, 48149 Münster
GEO:51.96781000000000000000;7.58092000000000000000
SUMMARY:KL Mü Mi.: TSC Gievenbeck VI - SC Münster 08 II
CLASS:PUBLIC
DTSTART:20221126T110000Z
DTSTAMP:20230202T111500Z
END:VEVENT
BEGIN:VEVENT
UID:623897-2da69939ed67427dc6bf3daba21059e9
X-WR-RELCALID:623897-2da69939ed67427dc6bf3daba21059e9
ORGANIZER:Volleyball
SEQUENCE:261101920
LOCATION:Sporthalle der Mosaikschule, Diekmannstr. 131, 48161 Münster
GEO:51.96556060000000000000;7.56774020000000000000
SUMMARY:KL Mü Mi.: TSC Gievenbeck VI - USC Münster VI
CLASS:PUBLIC
DTSTART:20221213T140000Z
DTSTAMP:20221201T092000Z
END:VEVENT
BEGIN:VEVENT
UID:623903-2da69939ed67427dc6bf3daba21059e9
X-WR-RELCALID:623903-2da69939ed67427dc6bf3daba21059e9
ORGANIZER:Volleyball
SEQUENCE:261101920
LOCATION:Sporthalle der Mosaikschule, Diekmannstr. 131, 48161 Münster
GEO:51.96556060000000000000;7.56774020000000000000
SUMMARY:KL Mü Mi.: TSC Gievenbeck VI - SG Westbevern/Ostbevern
CLASS:PUBLIC
DTSTART:20221217T130000Z
DTSTAMP:20220910T112500Z
END:VEVENT
BEGIN:VEVENT
UID:623902-2da69939ed67427dc6bf3daba21059e9
X-WR-RELCALID:623902-2da69939ed67427dc6bf3daba21059e9
ORGANIZER:Volleyball
SEQUENCE:261101920
LOCATION:Sporthalle der Mosaikschule, Diekmannstr. 131, 48161 Münster
GEO:51.96556060000000000000;7.56774020000000000000
SUMMARY:KL Mü Mi.: TSC Gievenbeck VII - TSC Gievenbeck VI
CLASS:PUBLIC
DTSTART:20230126T160000Z
DTSTAMP:20230120T100000Z
END:VEVENT
BEGIN:VEVENT
UID:623904-2da69939ed67427dc6bf3daba21059e9
X-WR-RELCALID:623904-2da69939ed67427dc6bf3daba21059e9
ORGANIZER:Volleyball
SEQUENCE:261101920
LOCATION:Sporthalle Berg Fidel, Am Berg Fidel 51, 48153 Münster
GEO:51.92894000000000000000;7.62397000000000000000
SUMMARY:KL Mü Mi.: USC Münster VI - TSC Gievenbeck VI
CLASS:PUBLIC
DTSTART:20230204T110000Z
DTSTAMP:20220910T110500Z
END:VEVENT
BEGIN:VEVENT
UID:623905-2da69939ed67427dc6bf3daba21059e9
X-WR-RELCALID:623905-2da69939ed67427dc6bf3daba21059e9
ORGANIZER:Volleyball
SEQUENCE:261101920
LOCATION:Kardinal-von-Galen-Gymnasium, Zum Roten Berge 25, 48165 Münst
 er
GEO:51.89936250000000000000;7.64358020000000000000
SUMMARY:KL Mü Mi.: TSC Gievenbeck VI - SV Blau-Weiß Aasee VII
CLASS:PUBLIC
DTSTART:20230211T150000Z
DTSTAMP:20230211T094000Z
END:VEVENT
BEGIN:VEVENT
UID:623906-2da69939ed67427dc6bf3daba21059e9
X-WR-RELCALID:623906-2da69939ed67427dc6bf3daba21059e9
ORGANIZER:Volleyball
SEQUENCE:261101920
LOCATION:Sporthalle der Mosaikschule, Diekmannstr. 131, 48161 Münster
GEO:51.96556060000000000000;7.56774020000000000000
SUMMARY:KL Mü Mi.: TSC Gievenbeck VI - SV Ems Westbevern III
CLASS:PUBLIC
DTSTART:20230218T140000Z
DTSTAMP:20220831T153000Z
END:VEVENT
BEGIN:VEVENT
UID:623908-2da69939ed67427dc6bf3daba21059e9
X-WR-RELCALID:623908-2da69939ed67427dc6bf3daba21059e9
ORGANIZER:Volleyball
SEQUENCE:261101920
LOCATION:Sporthalle Ost (Dreifachhalle), Manfred-von-Richthofen-Str. 5
 6, 48145 Münster
GEO:51.95840000000000000000;7.65813000000000000000
SUMMARY:KL Mü Mi.: SC Münster 08 II - TSC Gievenbeck VI
CLASS:PUBLIC
DTSTART:20230318T140000Z
DTSTAMP:20230202T111500Z
END:VEVENT
END:VCALENDAR